BEGIN:VCALENDAR
VERSION:2.0
PRODID:-//Workplace Pride - ECPv6.15.20//NONSGML v1.0//EN
CALSCALE:GREGORIAN
METHOD:PUBLISH
X-ORIGINAL-URL:https://archive.workplacepride.org
X-WR-CALDESC:Events for Workplace Pride
REFRESH-INTERVAL;VALUE=DURATION:PT1H
X-Robots-Tag:noindex
X-PUBLISHED-TTL:PT1H
BEGIN:VTIMEZONE
TZID:Europe/London
BEGIN:DAYLIGHT
TZOFFSETFROM:+0000
TZOFFSETTO:+0100
TZNAME:BST
DTSTART:20190331T010000
END:DAYLIGHT
BEGIN:STANDARD
TZOFFSETFROM:+0100
TZOFFSETTO:+0000
TZNAME:GMT
DTSTART:20191027T010000
END:STANDARD
BEGIN:DAYLIGHT
TZOFFSETFROM:+0000
TZOFFSETTO:+0100
TZNAME:BST
DTSTART:20200329T010000
END:DAYLIGHT
BEGIN:STANDARD
TZOFFSETFROM:+0100
TZOFFSETTO:+0000
TZNAME:GMT
DTSTART:20201025T010000
END:STANDARD
BEGIN:DAYLIGHT
TZOFFSETFROM:+0000
TZOFFSETTO:+0100
TZNAME:BST
DTSTART:20210328T010000
END:DAYLIGHT
BEGIN:STANDARD
TZOFFSETFROM:+0100
TZOFFSETTO:+0000
TZNAME:GMT
DTSTART:20211031T010000
END:STANDARD
END:VTIMEZONE
BEGIN:VEVENT
DTSTART;TZID=Europe/London:20201011T000000
DTEND;TZID=Europe/London:20201011T235900
DTSTAMP:20260426T022947
CREATED:20200923T091050Z
LAST-MODIFIED:20201007T093525Z
UID:8167-1602374400-1602460740@archive.workplacepride.org
SUMMARY:National Coming Out Day
DESCRIPTION:National Coming Out Day (NCOD) is an annual LGBT awareness day observed on October 11\, to support lesbian\, gay\, bisexual and transgender people to “come out of the closet“. It is a great opportunity for employers to demonstrate that everyone is accepted. By giving visibility to this day at the workplace\, employees feel less anxious about sharing other aspects of their personality and their identity. Sexual orientation is a non-visible type of diversity and sometimes people need to feel safe before opening up to their colleagues\, family and friends. Do you want to know more about NCOD? Visit HRC’s website: https://buff.ly/2pDowdy \n\n\n\nAre any of our members organizing a NCOD activity\, if so please share with us. Send content to us info@workplacepride.org
URL:https://archive.workplacepride.org/event/national-coming-out-day/
CATEGORIES:General Events
ATTACH;FMTTYPE=image/png:https://archive.workplacepride.org/wp-content/uploads/2020/09/Hot_topics_ComingOut.png
END:VEVENT
END:VCALENDAR