BEGIN:VCALENDAR
VERSION:2.0
PRODID:-//Workplace Pride - ECPv6.15.20//NONSGML v1.0//EN
CALSCALE:GREGORIAN
METHOD:PUBLISH
X-WR-CALNAME:Workplace Pride
X-ORIGINAL-URL:https://archive.workplacepride.org
X-WR-CALDESC:Events for Workplace Pride
REFRESH-INTERVAL;VALUE=DURATION:PT1H
X-Robots-Tag:noindex
X-PUBLISHED-TTL:PT1H
BEGIN:VTIMEZONE
TZID:Europe/London
BEGIN:DAYLIGHT
TZOFFSETFROM:+0000
TZOFFSETTO:+0100
TZNAME:BST
DTSTART:20190331T010000
END:DAYLIGHT
BEGIN:STANDARD
TZOFFSETFROM:+0100
TZOFFSETTO:+0000
TZNAME:GMT
DTSTART:20191027T010000
END:STANDARD
BEGIN:DAYLIGHT
TZOFFSETFROM:+0000
TZOFFSETTO:+0100
TZNAME:BST
DTSTART:20200329T010000
END:DAYLIGHT
BEGIN:STANDARD
TZOFFSETFROM:+0100
TZOFFSETTO:+0000
TZNAME:GMT
DTSTART:20201025T010000
END:STANDARD
BEGIN:DAYLIGHT
TZOFFSETFROM:+0000
TZOFFSETTO:+0100
TZNAME:BST
DTSTART:20210328T010000
END:DAYLIGHT
BEGIN:STANDARD
TZOFFSETFROM:+0100
TZOFFSETTO:+0000
TZNAME:GMT
DTSTART:20211031T010000
END:STANDARD
END:VTIMEZONE
BEGIN:VEVENT
DTSTART;TZID=Europe/London:20201026T080000
DTEND;TZID=Europe/London:20201026T170000
DTSTAMP:20260425T234530
CREATED:20201026T094052Z
LAST-MODIFIED:20201026T094054Z
UID:8429-1603699200-1603731600@archive.workplacepride.org
SUMMARY:Intersex Awareness Day
DESCRIPTION:The Intersex Day Project promotes human rights actions for Intersex Awareness Day (26 October) and Intersex Day of Solidarity (8 November)\, and documents and shares the histories and works of the intersex movement.  \n\n\n\nThe Intersex Day Project was established in 2015 by Morgan Carpenter (Australia)\, with Laura Inter (Mexico). \n\n\n\nWe gratefully acknowledge the important contribution of Betsy Driver and Emi Koyama(US) in founding Intersex Awareness Day in 2004. \n\n\n\nWe gratefully honour the vital contribution of Morgan Holmes\, Max Beck and friends\, who took part in the event\, in Boston in 1996\, that is marked by Intersex Awareness Day.
URL:https://archive.workplacepride.org/event/intersex-awareness-day/
END:VEVENT
END:VCALENDAR