BEGIN:VCALENDAR
VERSION:2.0
PRODID:-//Workplace Pride - ECPv6.15.20//NONSGML v1.0//EN
CALSCALE:GREGORIAN
METHOD:PUBLISH
X-WR-CALNAME:Workplace Pride
X-ORIGINAL-URL:https://archive.workplacepride.org
X-WR-CALDESC:Events for Workplace Pride
REFRESH-INTERVAL;VALUE=DURATION:PT1H
X-Robots-Tag:noindex
X-PUBLISHED-TTL:PT1H
BEGIN:VTIMEZONE
TZID:Europe/Amsterdam
BEGIN:DAYLIGHT
TZOFFSETFROM:+0100
TZOFFSETTO:+0200
TZNAME:CEST
DTSTART:20190331T010000
END:DAYLIGHT
BEGIN:STANDARD
TZOFFSETFROM:+0200
TZOFFSETTO:+0100
TZNAME:CET
DTSTART:20191027T010000
END:STANDARD
BEGIN:DAYLIGHT
TZOFFSETFROM:+0100
TZOFFSETTO:+0200
TZNAME:CEST
DTSTART:20200329T010000
END:DAYLIGHT
BEGIN:STANDARD
TZOFFSETFROM:+0200
TZOFFSETTO:+0100
TZNAME:CET
DTSTART:20201025T010000
END:STANDARD
BEGIN:DAYLIGHT
TZOFFSETFROM:+0100
TZOFFSETTO:+0200
TZNAME:CEST
DTSTART:20210328T010000
END:DAYLIGHT
BEGIN:STANDARD
TZOFFSETFROM:+0200
TZOFFSETTO:+0100
TZNAME:CET
DTSTART:20211031T010000
END:STANDARD
END:VTIMEZONE
BEGIN:VEVENT
DTSTART;TZID=Europe/Amsterdam:20201123T120000
DTEND;TZID=Europe/Amsterdam:20201123T130000
DTSTAMP:20260425T221705
CREATED:20201104T091612Z
LAST-MODIFIED:20201118T101018Z
UID:8527-1606132800-1606136400@archive.workplacepride.org
SUMMARY:Academia@WorkplacePride Webinar
DESCRIPTION:We are pleased to invite you to the Academia@WorkplacePride live webinar in our “Keeping Members Connected” series on Monday November 23rdat noon CEST. \n\n\n\nThe topic of academia and the inherent challenges for LGBTI persons studying or working within its many layers\, is an area sorely in need of attention and discussion. After the inaugural webinar on the 24thof August 2020\, Academia@WorkplacePride wants to make further progress and look more deeply into substantive topics. \n\n\n\n“Queering the Curriculum” \n\n\n\nIn this webinar we will focus on the educational aspects of academia and it particular the curriculum. Is there am LGBTI lens on the curriculum? If so what are the implications and is this as relevant in the STEM disciplines  as it is in the humanities and the social sciences. \n\n\n\nSpeakers from the universities of Amsterdam and Leiden will discuss how they can be more inclusive on the basis of the following questions: \n\n\n\nWhat does it mean to ‘queer’ a curriculum?What is heteronormative in your discipline?How do different faculties incorporate queer concepts?Is the curriculum queered in the Netherlands just like as in other countries or are their national differences? \n\n\n\nAs always with our webinars there’ll be a live Q&A section from the viewers which always deepens the panel format.This webinar is for members as well as the general public\, freely accessible for all after registration. We hope you all can attend! \n\n\n\nEvent details: \n\n\n\nEvent:                      Academia@WorkplacePride: “Queering the Curriculum”               Date/Time:             Monday\, November 23\, 2020: 12.00 – 13:00 CESTModerator:             Dr.(mult.)Andrew DJ Shield( Assistant Professor of                                      Migration History\, Leiden University\, Humanities)Guest Speakers:  \n\n\n\nProf.dr. Martine de Vries (Professor in Medical Ethics and Health Law at Leiden University Medical Center)Dr. Marie-Louise Janssen (Lecturer in Gender and Sexuality studies at the University of Amsterdam)Looi van Kessel (University Lecturer at Leiden University Centre for Arts in Society)\n\n\n\nAudience:      Workplace Pride Members\, stakeholders\, and friendsHow to connect:  \n\n\n\nPlease use Google Chrome or Firefox.Microsoft Edge isn’t supported.Link: Workplace Pride Live WebinarSelect Webinar: Academia@WorkplacePride “Queering the Curriculum”I look forward to seeing you on the 23rdof November!
URL:https://archive.workplacepride.org/event/academiaworkplacepride-webinar/
CATEGORIES:General Events,Webinar
END:VEVENT
END:VCALENDAR