BEGIN:VCALENDAR
VERSION:2.0
PRODID:-//Workplace Pride - ECPv6.15.20//NONSGML v1.0//EN
CALSCALE:GREGORIAN
METHOD:PUBLISH
X-ORIGINAL-URL:https://archive.workplacepride.org
X-WR-CALDESC:Events for Workplace Pride
REFRESH-INTERVAL;VALUE=DURATION:PT1H
X-Robots-Tag:noindex
X-PUBLISHED-TTL:PT1H
BEGIN:VTIMEZONE
TZID:Europe/Amsterdam
BEGIN:DAYLIGHT
TZOFFSETFROM:+0100
TZOFFSETTO:+0200
TZNAME:CEST
DTSTART:20200329T010000
END:DAYLIGHT
BEGIN:STANDARD
TZOFFSETFROM:+0200
TZOFFSETTO:+0100
TZNAME:CET
DTSTART:20201025T010000
END:STANDARD
BEGIN:DAYLIGHT
TZOFFSETFROM:+0100
TZOFFSETTO:+0200
TZNAME:CEST
DTSTART:20210328T010000
END:DAYLIGHT
BEGIN:STANDARD
TZOFFSETFROM:+0200
TZOFFSETTO:+0100
TZNAME:CET
DTSTART:20211031T010000
END:STANDARD
BEGIN:DAYLIGHT
TZOFFSETFROM:+0100
TZOFFSETTO:+0200
TZNAME:CEST
DTSTART:20220327T010000
END:DAYLIGHT
BEGIN:STANDARD
TZOFFSETFROM:+0200
TZOFFSETTO:+0100
TZNAME:CET
DTSTART:20221030T010000
END:STANDARD
END:VTIMEZONE
BEGIN:VEVENT
DTSTART;TZID=Europe/Amsterdam:20210127T150000
DTEND;TZID=Europe/Amsterdam:20210127T160000
DTSTAMP:20260425T211228
CREATED:20210112T172625Z
LAST-MODIFIED:20210130T204229Z
UID:8766-1611759600-1611763200@archive.workplacepride.org
SUMMARY:Workplace Pride Webinar: Introduction of LGBTIQ+ acronym
DESCRIPTION:Workplace Pride has decided to expand our descriptive acronym from LGBTI to LGBTIQ+ \n\n\n\nAre acronyms a necessary evil? Will they keep expanding?  \n\n\n\nFor Workplace Pride\, the “Q” in Queer has many facets which play out differently across generations. How can we get those who feel the historical stigma around the term to change their minds? \n\n\n\nFor those who are comfortable with the term\, what is the core meaning for them? \n\n\n\nCan our community come together via the modern positive nuance of “Queer”? \n\n\n\nFor the plus “+” part of the expansion\, we feel it includes the other parts of the gender/sexuality spectrum. How do we make allies stronger allies whilst incorporating them via the “+”? \n\n\n\nClick here for the webinar on our YouTube channel.
URL:https://archive.workplacepride.org/event/workplace-pride-webinar-introduction-of-lgbtiq-acronym/
END:VEVENT
END:VCALENDAR