BEGIN:VCALENDAR
VERSION:2.0
PRODID:-//Workplace Pride - ECPv6.15.20//NONSGML v1.0//EN
CALSCALE:GREGORIAN
METHOD:PUBLISH
X-WR-CALNAME:Workplace Pride
X-ORIGINAL-URL:https://archive.workplacepride.org
X-WR-CALDESC:Events for Workplace Pride
REFRESH-INTERVAL;VALUE=DURATION:PT1H
X-Robots-Tag:noindex
X-PUBLISHED-TTL:PT1H
BEGIN:VTIMEZONE
TZID:Europe/Berlin
BEGIN:DAYLIGHT
TZOFFSETFROM:+0100
TZOFFSETTO:+0200
TZNAME:CEST
DTSTART:20200329T010000
END:DAYLIGHT
BEGIN:STANDARD
TZOFFSETFROM:+0200
TZOFFSETTO:+0100
TZNAME:CET
DTSTART:20201025T010000
END:STANDARD
BEGIN:DAYLIGHT
TZOFFSETFROM:+0100
TZOFFSETTO:+0200
TZNAME:CEST
DTSTART:20210328T010000
END:DAYLIGHT
BEGIN:STANDARD
TZOFFSETFROM:+0200
TZOFFSETTO:+0100
TZNAME:CET
DTSTART:20211031T010000
END:STANDARD
BEGIN:DAYLIGHT
TZOFFSETFROM:+0100
TZOFFSETTO:+0200
TZNAME:CEST
DTSTART:20220327T010000
END:DAYLIGHT
BEGIN:STANDARD
TZOFFSETFROM:+0200
TZOFFSETTO:+0100
TZNAME:CET
DTSTART:20221030T010000
END:STANDARD
END:VTIMEZONE
BEGIN:VEVENT
DTSTART;TZID=Europe/Berlin:20210301T000000
DTEND;TZID=Europe/Berlin:20210305T235959
DTSTAMP:20260425T153107
CREATED:20210118T114241Z
LAST-MODIFIED:20210118T114243Z
UID:8863-1614556800-1614988799@archive.workplacepride.org
SUMMARY:TEDDY AWARD at the International Film Festival in Berlin
DESCRIPTION:The TEDDY AWARD is a societal engaged political award\, which is given to films and people\, that communicate queer themes and content on a large scale and contribute with this to more tolerance\, acceptance\, solidarity\, and equality in society. The TEDDY AWARD has with this not only cultural importance. As long as queer life is threatened in parts of the world with the capital punishment and is even in towns like Berlin a homo- and transphobe power in the agenda\, TEDDY AWARD also carries a political significance and responsibility. The 35th TEDDY AWARD will be awarded during the 71th Berlin International Film Festival\,.
URL:https://archive.workplacepride.org/event/teddy-award-at-the-international-film-festival-in-berlin/
END:VEVENT
END:VCALENDAR