BEGIN:VCALENDAR
VERSION:2.0
PRODID:-//Workplace Pride - ECPv6.15.20//NONSGML v1.0//EN
CALSCALE:GREGORIAN
METHOD:PUBLISH
X-WR-CALNAME:Workplace Pride
X-ORIGINAL-URL:https://archive.workplacepride.org
X-WR-CALDESC:Events for Workplace Pride
REFRESH-INTERVAL;VALUE=DURATION:PT1H
X-Robots-Tag:noindex
X-PUBLISHED-TTL:PT1H
BEGIN:VTIMEZONE
TZID:Europe/Amsterdam
BEGIN:DAYLIGHT
TZOFFSETFROM:+0100
TZOFFSETTO:+0200
TZNAME:CEST
DTSTART:20200329T010000
END:DAYLIGHT
BEGIN:STANDARD
TZOFFSETFROM:+0200
TZOFFSETTO:+0100
TZNAME:CET
DTSTART:20201025T010000
END:STANDARD
BEGIN:DAYLIGHT
TZOFFSETFROM:+0100
TZOFFSETTO:+0200
TZNAME:CEST
DTSTART:20210328T010000
END:DAYLIGHT
BEGIN:STANDARD
TZOFFSETFROM:+0200
TZOFFSETTO:+0100
TZNAME:CET
DTSTART:20211031T010000
END:STANDARD
BEGIN:DAYLIGHT
TZOFFSETFROM:+0100
TZOFFSETTO:+0200
TZNAME:CEST
DTSTART:20220327T010000
END:DAYLIGHT
BEGIN:STANDARD
TZOFFSETFROM:+0200
TZOFFSETTO:+0100
TZNAME:CET
DTSTART:20221030T010000
END:STANDARD
END:VTIMEZONE
BEGIN:VEVENT
DTSTART;TZID=Europe/Amsterdam:20210308T000000
DTEND;TZID=Europe/Amsterdam:20210308T235959
DTSTAMP:20260425T140903
CREATED:20210209T152051Z
LAST-MODIFIED:20210209T152054Z
UID:9002-1615161600-1615247999@archive.workplacepride.org
SUMMARY:International Woman's Day matters for LGBTQI+ people
DESCRIPTION:Lesbian\, bisexual and transgender women are facing even greater disadvantages because of their sexual orientation and gender identity and as a result often suffer from multiple discrimination and disadvantages. \n\n\n\nWe know that there is\, and always has been\, more that unites us than divides us. But only when we acknowledge the shared nature of our struggles can we work together to create a world where everyone is safe\, supported\, and free to be themselves. On this International Women’s Day\, we urge our communities to come together in solidarity and begin taking the steps needed to make this a reality.
URL:https://archive.workplacepride.org/event/international-womans-day-matters-for-lgbtqi-people/
END:VEVENT
END:VCALENDAR