BEGIN:VCALENDAR
VERSION:2.0
PRODID:-//Workplace Pride - ECPv6.15.20//NONSGML v1.0//EN
CALSCALE:GREGORIAN
METHOD:PUBLISH
X-ORIGINAL-URL:https://archive.workplacepride.org
X-WR-CALDESC:Events for Workplace Pride
REFRESH-INTERVAL;VALUE=DURATION:PT1H
X-Robots-Tag:noindex
X-PUBLISHED-TTL:PT1H
BEGIN:VTIMEZONE
TZID:Europe/Amsterdam
BEGIN:DAYLIGHT
TZOFFSETFROM:+0100
TZOFFSETTO:+0200
TZNAME:CEST
DTSTART:20200329T010000
END:DAYLIGHT
BEGIN:STANDARD
TZOFFSETFROM:+0200
TZOFFSETTO:+0100
TZNAME:CET
DTSTART:20201025T010000
END:STANDARD
BEGIN:DAYLIGHT
TZOFFSETFROM:+0100
TZOFFSETTO:+0200
TZNAME:CEST
DTSTART:20210328T010000
END:DAYLIGHT
BEGIN:STANDARD
TZOFFSETFROM:+0200
TZOFFSETTO:+0100
TZNAME:CET
DTSTART:20211031T010000
END:STANDARD
BEGIN:DAYLIGHT
TZOFFSETFROM:+0100
TZOFFSETTO:+0200
TZNAME:CEST
DTSTART:20220327T010000
END:DAYLIGHT
BEGIN:STANDARD
TZOFFSETFROM:+0200
TZOFFSETTO:+0100
TZNAME:CET
DTSTART:20221030T010000
END:STANDARD
END:VTIMEZONE
BEGIN:VEVENT
DTSTART;TZID=Europe/Amsterdam:20210413T080000
DTEND;TZID=Europe/Amsterdam:20210414T170000
DTSTAMP:20260425T124804
CREATED:20210326T122858Z
LAST-MODIFIED:20210331T142524Z
UID:9261-1618300800-1618419600@archive.workplacepride.org
SUMMARY:IBM and Workplace Pride collaborate in LGBTIQ+ innovation
DESCRIPTION:Although LGBTIQ+ people are protected by laws addressing employment and other forms of discrimination in a growing proportion of countries\, there remain far too many LGBTIQ+ people around the globe whose rights are not protected. In many countries\, LGBTIQ+ citizens are breaking laws just by being themselves. Even in legally progressive nations\, many LGBTIQ+ people still feel that they cannot reveal their authentic identity in many professional\, academic\, and social settings. \n\n\n\nTo continue advancing inclusion and belonging for the full spectrum of the LGBTIQ+ community at work\, home\, and society at large\, the IBM Institute for Business Value (IBV) is collaborating with Workplace Pride\, and Out & Equal to host a Global LGBTIQ+ Innovation Jam. \n\n\n\nRegistration will open on 29 March here: https://lnkd.in/g7Hy-z7  \n\n\n\nStarting at 8am ET on Tuesday\, April 13th and running continuously through until 5pm ET on Wednesday\, April 14th\, the Jam is a virtual\, text-based event where thousands of business leaders; D&I experts; academics; and other allies will come together to explore the solutions to the barriers that still slow the advancement of LGBTIQ+ individuals in the workplace. \n\n\n\nThe Global LGBTIQ+ Innovation Jam is an open and inclusive forum for discussion and sharing around 7 important themes: \n\n\n\nCorporate & individual championshipLGBT+ intersectionalityMental healthTransgender and non-binary belongingAllyshipVisibility and developmentImpact of technology\n\n\n\nRegister for the Global LGBT+ Innovation Jam and join the discussion – for a few minutes or for all 33 hours! Input from Jammers will be analyzed by IBM’s proprietary Innovation Jam® AI-enabled technology and the results may be used to inform an upcoming LGBT+ Leadership study that is being published in celebration of Pride Month in June.
URL:https://archive.workplacepride.org/event/ibm-and-workplace-pride-collaborate-in-lgbtiq-innovation/
CATEGORIES:General Events
END:VEVENT
END:VCALENDAR