BEGIN:VCALENDAR
VERSION:2.0
PRODID:-//Workplace Pride - ECPv6.15.20//NONSGML v1.0//EN
CALSCALE:GREGORIAN
METHOD:PUBLISH
X-WR-CALNAME:Workplace Pride
X-ORIGINAL-URL:https://archive.workplacepride.org
X-WR-CALDESC:Events for Workplace Pride
REFRESH-INTERVAL;VALUE=DURATION:PT1H
X-Robots-Tag:noindex
X-PUBLISHED-TTL:PT1H
BEGIN:VTIMEZONE
TZID:Europe/Amsterdam
BEGIN:DAYLIGHT
TZOFFSETFROM:+0100
TZOFFSETTO:+0200
TZNAME:CEST
DTSTART:20200329T010000
END:DAYLIGHT
BEGIN:STANDARD
TZOFFSETFROM:+0200
TZOFFSETTO:+0100
TZNAME:CET
DTSTART:20201025T010000
END:STANDARD
BEGIN:DAYLIGHT
TZOFFSETFROM:+0100
TZOFFSETTO:+0200
TZNAME:CEST
DTSTART:20210328T010000
END:DAYLIGHT
BEGIN:STANDARD
TZOFFSETFROM:+0200
TZOFFSETTO:+0100
TZNAME:CET
DTSTART:20211031T010000
END:STANDARD
BEGIN:DAYLIGHT
TZOFFSETFROM:+0100
TZOFFSETTO:+0200
TZNAME:CEST
DTSTART:20220327T010000
END:DAYLIGHT
BEGIN:STANDARD
TZOFFSETFROM:+0200
TZOFFSETTO:+0100
TZNAME:CET
DTSTART:20221030T010000
END:STANDARD
END:VTIMEZONE
BEGIN:VEVENT
DTSTART;TZID=Europe/Amsterdam:20210522T000000
DTEND;TZID=Europe/Amsterdam:20210522T235959
DTSTAMP:20260425T125243
CREATED:20210209T144843Z
LAST-MODIFIED:20211208T110425Z
UID:8992-1621641600-1621727999@archive.workplacepride.org
SUMMARY:Harvey Milk Day
DESCRIPTION:The struggle faced by the LGBTQ community has been going on for generations in this country\, and for thousands of years around the world.  Harvey Milk was one of the heroes of that struggle\, being the first official to be elected that was openly gay in California.  \n\n\n\n\n\n\n\nWhile he was assassinated he accomplished important steps for the community during his time in office. Harvey Milk Day celebrates this incredible man and the sacrifices he made so people could just live their lives in peace.
URL:https://archive.workplacepride.org/event/harvey-milk-day/
END:VEVENT
END:VCALENDAR