BEGIN:VCALENDAR
VERSION:2.0
PRODID:-//Workplace Pride - ECPv6.15.20//NONSGML v1.0//EN
CALSCALE:GREGORIAN
METHOD:PUBLISH
X-WR-CALNAME:Workplace Pride
X-ORIGINAL-URL:https://archive.workplacepride.org
X-WR-CALDESC:Events for Workplace Pride
REFRESH-INTERVAL;VALUE=DURATION:PT1H
X-Robots-Tag:noindex
X-PUBLISHED-TTL:PT1H
BEGIN:VTIMEZONE
TZID:Europe/Amsterdam
BEGIN:DAYLIGHT
TZOFFSETFROM:+0100
TZOFFSETTO:+0200
TZNAME:CEST
DTSTART:20200329T010000
END:DAYLIGHT
BEGIN:STANDARD
TZOFFSETFROM:+0200
TZOFFSETTO:+0100
TZNAME:CET
DTSTART:20201025T010000
END:STANDARD
BEGIN:DAYLIGHT
TZOFFSETFROM:+0100
TZOFFSETTO:+0200
TZNAME:CEST
DTSTART:20210328T010000
END:DAYLIGHT
BEGIN:STANDARD
TZOFFSETFROM:+0200
TZOFFSETTO:+0100
TZNAME:CET
DTSTART:20211031T010000
END:STANDARD
BEGIN:DAYLIGHT
TZOFFSETFROM:+0100
TZOFFSETTO:+0200
TZNAME:CEST
DTSTART:20220327T010000
END:DAYLIGHT
BEGIN:STANDARD
TZOFFSETFROM:+0200
TZOFFSETTO:+0100
TZNAME:CET
DTSTART:20221030T010000
END:STANDARD
END:VTIMEZONE
BEGIN:VTIMEZONE
TZID:Europe/Copenhagen
BEGIN:DAYLIGHT
TZOFFSETFROM:+0100
TZOFFSETTO:+0200
TZNAME:CEST
DTSTART:20200329T010000
END:DAYLIGHT
BEGIN:STANDARD
TZOFFSETFROM:+0200
TZOFFSETTO:+0100
TZNAME:CET
DTSTART:20201025T010000
END:STANDARD
BEGIN:DAYLIGHT
TZOFFSETFROM:+0100
TZOFFSETTO:+0200
TZNAME:CEST
DTSTART:20210328T010000
END:DAYLIGHT
BEGIN:STANDARD
TZOFFSETFROM:+0200
TZOFFSETTO:+0100
TZNAME:CET
DTSTART:20211031T010000
END:STANDARD
BEGIN:DAYLIGHT
TZOFFSETFROM:+0100
TZOFFSETTO:+0200
TZNAME:CEST
DTSTART:20220327T010000
END:DAYLIGHT
BEGIN:STANDARD
TZOFFSETFROM:+0200
TZOFFSETTO:+0100
TZNAME:CET
DTSTART:20221030T010000
END:STANDARD
END:VTIMEZONE
BEGIN:VEVENT
DTSTART;TZID=Europe/Amsterdam:20210812T000000
DTEND;TZID=Europe/Amsterdam:20210822T235959
DTSTAMP:20260425T051744
CREATED:20210601T124624Z
LAST-MODIFIED:20210601T135016Z
UID:9639-1628726400-1629676799@archive.workplacepride.org
SUMMARY:WORLDPRIDE | COPENHAGEN 2021
DESCRIPTION:WorldPride in Copenhagen 2021 will be a celebration of equality\, arts and human rights proudly hosted by Copenhagen Pride in collaboration with Malmö Pride. \n\n\n\nCome together in Copenhagen and Malmö to raise the rainbow flag and stand up for equality and around the world. WORLDPRIDE | COPENHAGEN 2021\n\n\n\nHUMAN RIGHTS FORUM \n\n\n\nThe Copenhagen 2021 Human Rights Forum is an international LGBTI+ experience consisting of multiple high-level events and a broader program open to the public. \n\n\n\nMonday 16 August from 15:00-17:45\, we meet in the framework of Copenhagen 2021 at UN City Copenhagen\, to evaluate the progress\, discuss challenges and opportunities\, and to suggest a way forward that secures the inclusion of LGBTI+ people in the frame of the global SDGs. The opening event is organized in collaboration with UNFPA\, the United Nations sexual and reproductive health agency and coordinated with other UN entities. Around 250 participants will be welcomed in the lobby areas of UN City Copenhagen for an inspirational fair before the official ‘kick-off’ of the Human Rights Forum in the UN City auditorium.   \n\n\n\nHuman rights should be at the core of all LGBTI+ events. That’s why Copenhagen 2021 will feature several human rights-focused events to push our agenda of equality and diversity forward.’ WORLDPRIDE | COPENHAGEN 2021
URL:https://archive.workplacepride.org/event/worldpride-copenhagen-2021/
CATEGORIES:Europe,General Events
END:VEVENT
BEGIN:VEVENT
DTSTART;TZID=Europe/Copenhagen:20210818T090000
DTEND;TZID=Europe/Copenhagen:20210818T170000
DTSTAMP:20260425T051744
CREATED:20210713T102617Z
LAST-MODIFIED:20210812T163036Z
UID:9856-1629277200-1629306000@archive.workplacepride.org
SUMMARY:LGBTIQ+ WORKPLACE INCLUSION DAY - COPENHAGEN\, DENMARK
DESCRIPTION:REGISTER HERE FOR WORKPLACE INCLUSION EVENT\n\n\n\n\nThe LGBTI+ Workplace Inclusion Day will focus on how to create workplaces where everyone can be themselves. Throughout the day we will present global\, high-level corporate and governmental speakers\, who will cover all sides of the story from creating supporting structures within organisations to corporate advocacy that can impact LGBTI+ non-friendly legislation. \n\n\n\nRead the detailed information here \n\n\n\nRegistration for the Workplace Inclusion Day has opened\, and you can sign up on the link given below! The tickets for the Copenhagen 2021 LGBTI+ Workplace Inclusion Day are sold as an add-on to the Human Rights Conference. This means that you will first have to purchase a ticket for the Human Rights Conference and then buy the additional ticket for the Workplace Inclusion Day. \n\n\n\nREGISTRATION \n\n\n\nDigital attendance\n\n\n\nWe of course hope that many companies and corporations will be able to join us physically in Copenhagen\, where they will also have the chance to network and participate in our lunch and reception. However\, we also understand the impact that COVID19 has had on global business travel. That is why we are offering a digital version of the Workplace Inclusion Day: We want to ensure that companies and corporations that want to work towards more inclusive work environments have the chance to participate in the conference despite insecurities and travel restrictions. The digital version of the conference will include plenary sessions\, break-out sessions\, and global townhalls in order to make the Workplace Inclusion Day as inclusive and accessible as possible. We are working hard to ensure that these elements will be as interactive as possible so that that participation in the Workplace Inclusion Day remains relevant and engaging even for remote participants. \n\n\n\n \n\n\n\n\n\n\n\n*The break-out sessions will be organised and delivered by Nordic and international organisations working with inclusion strategies in various contexts. The break-out sessions will therefore feature a broad selection of interactive discussions\, case studies\, and practical approaches to working with inclusivity in a workplace setting. \n\n\n\n* The town hall sessions are 45-minute live streams focusing on specific regions outside Europe and the situation of workplace inclusion in that region. During these sessions\, participants will be able to engage with regions across the globe.\n\n\n\n\nThe Workplace Inclusion Day is executed in close collaboration with executive partner\, Workplace Pride\, and proudly sponsored by Maersk.
URL:https://archive.workplacepride.org/event/lgbtiq-workplace-inclusion-day-copenhagen-denmark/
CATEGORIES:2021 Copenhagen,Europe,General Events
ATTACH;FMTTYPE=image/gif:https://archive.workplacepride.org/wp-content/uploads/2021/07/Copenhagen-GIF.gif
END:VEVENT
BEGIN:VEVENT
DTSTART;TZID=Europe/Amsterdam:20210818T090000
DTEND;TZID=Europe/Amsterdam:20210820T233000
DTSTAMP:20260425T051744
CREATED:20210112T174837Z
LAST-MODIFIED:20210112T180004Z
UID:8770-1629277200-1629502200@archive.workplacepride.org
SUMMARY:EuroGames in Copenhagen
DESCRIPTION:EuroGames will take place from August 18-20\, 2021 in Copenhagen and Malmö. EuroGames at Copenhagen 2021 is going to be the most inclusive sporting event ever. \n\n\n\nEuroGames 2021\n\n\n\n#YouAreIncluded is one of the themes we will see encouraging the athletic community to be more inclusive. The EuroGames are an LGBTQ sporting event in Europe\, hosted by license of the European Gay and Lesbian Sport Federation and organized by one or more of the federation’s member clubs. Similar to the Gay Games\, EuroGames are a sports-for-all-event\, open to everyone\, irrespective of sex\, age\, sexual identity or physical ability. The 2021 games will feature 25+ disciplines in world-class facilities welcoming an anticipated 6\,000+
URL:https://archive.workplacepride.org/event/eurogames-in-copenhagen/
END:VEVENT
END:VCALENDAR