BEGIN:VCALENDAR
VERSION:2.0
PRODID:-//Workplace Pride - ECPv6.15.20//NONSGML v1.0//EN
CALSCALE:GREGORIAN
METHOD:PUBLISH
X-WR-CALNAME:Workplace Pride
X-ORIGINAL-URL:https://archive.workplacepride.org
X-WR-CALDESC:Events for Workplace Pride
REFRESH-INTERVAL;VALUE=DURATION:PT1H
X-Robots-Tag:noindex
X-PUBLISHED-TTL:PT1H
BEGIN:VTIMEZONE
TZID:Europe/Amsterdam
BEGIN:DAYLIGHT
TZOFFSETFROM:+0100
TZOFFSETTO:+0200
TZNAME:CEST
DTSTART:20210328T010000
END:DAYLIGHT
BEGIN:STANDARD
TZOFFSETFROM:+0200
TZOFFSETTO:+0100
TZNAME:CET
DTSTART:20211031T010000
END:STANDARD
BEGIN:DAYLIGHT
TZOFFSETFROM:+0100
TZOFFSETTO:+0200
TZNAME:CEST
DTSTART:20220327T010000
END:DAYLIGHT
BEGIN:STANDARD
TZOFFSETFROM:+0200
TZOFFSETTO:+0100
TZNAME:CET
DTSTART:20221030T010000
END:STANDARD
BEGIN:DAYLIGHT
TZOFFSETFROM:+0100
TZOFFSETTO:+0200
TZNAME:CEST
DTSTART:20230326T010000
END:DAYLIGHT
BEGIN:STANDARD
TZOFFSETFROM:+0200
TZOFFSETTO:+0100
TZNAME:CET
DTSTART:20231029T010000
END:STANDARD
END:VTIMEZONE
BEGIN:VEVENT
DTSTART;TZID=Europe/Amsterdam:20220730T000000
DTEND;TZID=Europe/Amsterdam:20220807T235959
DTSTAMP:20260426T010730
CREATED:20211208T112010Z
LAST-MODIFIED:20220705T102217Z
UID:10507-1659139200-1659916799@archive.workplacepride.org
SUMMARY:Amsterdam Pride 2022
DESCRIPTION:“MY GENDER\, MY PRIDE”\n\n\n\nEveryone should feel free to be themselves\, without an imposed norm from outside. Unfortunately\, the reality is different\, and our emancipation is often far from complete. In the Netherlands\, too\, people are still discriminated against and beaten up every day because of who they are or who they love. In recent decades\, our struggle has mainly been about ‘being allowed to love who we want and it is time to broaden the focus to ‘be allowed to be how we feel’. In other words\, time to pay attention to the diversity of gender identities and our right to self-determination. We have the right to deviate from the norm and the sex we were given at birth. Gender identity is central during Pride Amsterdam from July 30 to August 7\, 2022\, with the theme ‘My Gender\, My Pride’. \n\n\n\nFor more information about this year’s Amsterdam Pride 2022\, click here
URL:https://archive.workplacepride.org/event/amsterdam-pride-2022/
END:VEVENT
BEGIN:VEVENT
DTSTART;TZID=Europe/Amsterdam:20220804T180000
DTEND;TZID=Europe/Amsterdam:20220804T210000
DTSTAMP:20260426T010730
CREATED:20220706T094032Z
LAST-MODIFIED:20220721T111805Z
UID:11125-1659636000-1659646800@archive.workplacepride.org
SUMMARY:Stories from the Heart co-hosted by Heineken and PWC
DESCRIPTION:REGISTER NOW!\n\n\n\nAfter a hiatus of several years\, Workplace Pride is honoured to again be organising the 2022 edition of ‘Stories From the Heart’ as our main Amsterdam Pride event. The event will be kindly hosted by our Foundation Member\, Heineken\, and co-hosted by our Foundation Partner PwC.  \n\n\n\nStories from the Heart is part of the Building Bridges program which brings together LGBTIQ+ activists from different parts of the world to exchange experiences and dialogue with fellow activists during the Amsterdam Pride celebrations. Building Bridges helps strengthen their network of allies in the region and empowers their activism.  \n\n\n\nAs many Workplace Pride members have activities in locations where it is difficult or even dangerous to be openly LGBTIQ+\, this event provides our members a first-hand account of what their colleagues and other community members experience on a regular basis. This year’s event features activists from Azerbaijan\, Bulgaria\, Georgia\, Hungary\, Kazakhstan\, Kurdistan\, Poland\, Serbia\, and Slovakia. \n\n\n\nBuilding Bridges is a joint initiative of the Ministry of Foreign Affairs and the RVO (the Netherlands Enterprise Agency) in partnership with the COC Nederland and the Municipality of Amsterdam.  \n\n\n\nStories from the Heart  \n\n\n\nProgram \n\n\n\nOpening Reception: 18:00 \n\n\n\nProgram Begins: 18:30-20:00 \n\n\n\nReception: 20:00 – 22:00 \n\n\n\nWhere  \n\n\n\nHeineken Experience \n\n\n\nStadhouderskade 78 \n\n\n\n1072 AE Amsterdam \n\n\n\nSpace is limited\, register below!
URL:https://archive.workplacepride.org/event/stories-from-the-heart-hosted-by-heineken/
LOCATION:HEINEKEN EXPERIENCE\, Stadhouderskade 78\, Amsterdam\, 1072 AE\, Netherlands
END:VEVENT
END:VCALENDAR