BEGIN:VCALENDAR
VERSION:2.0
PRODID:-//Workplace Pride - ECPv6.15.20//NONSGML v1.0//EN
CALSCALE:GREGORIAN
METHOD:PUBLISH
X-ORIGINAL-URL:https://archive.workplacepride.org
X-WR-CALDESC:Events for Workplace Pride
REFRESH-INTERVAL;VALUE=DURATION:PT1H
X-Robots-Tag:noindex
X-PUBLISHED-TTL:PT1H
BEGIN:VTIMEZONE
TZID:Europe/Amsterdam
BEGIN:DAYLIGHT
TZOFFSETFROM:+0100
TZOFFSETTO:+0200
TZNAME:CEST
DTSTART:20210328T010000
END:DAYLIGHT
BEGIN:STANDARD
TZOFFSETFROM:+0200
TZOFFSETTO:+0100
TZNAME:CET
DTSTART:20211031T010000
END:STANDARD
BEGIN:DAYLIGHT
TZOFFSETFROM:+0100
TZOFFSETTO:+0200
TZNAME:CEST
DTSTART:20220327T010000
END:DAYLIGHT
BEGIN:STANDARD
TZOFFSETFROM:+0200
TZOFFSETTO:+0100
TZNAME:CET
DTSTART:20221030T010000
END:STANDARD
BEGIN:DAYLIGHT
TZOFFSETFROM:+0100
TZOFFSETTO:+0200
TZNAME:CEST
DTSTART:20230326T010000
END:DAYLIGHT
BEGIN:STANDARD
TZOFFSETFROM:+0200
TZOFFSETTO:+0100
TZNAME:CET
DTSTART:20231029T010000
END:STANDARD
END:VTIMEZONE
BEGIN:VEVENT
DTSTART;TZID=Europe/Amsterdam:20220815T000000
DTEND;TZID=Europe/Amsterdam:20220822T235959
DTSTAMP:20260426T010827
CREATED:20211208T111624Z
LAST-MODIFIED:20220713T085427Z
UID:10505-1660521600-1661212799@archive.workplacepride.org
SUMMARY:Copenhagen Pride 2022
DESCRIPTION:Photo by Renato Manzionna \n\n\n\nCopenhagen Pride Week 2022\n\n\n\nOn 13-21 August\, we’ll once again paint the city of Copenhagen in all the colors of the rainbow\, and we hope you want to join us! \n\n\n\nWe will be updating this website on an ongoing basis\, so make sure you stay tuned on here as well as on our Facebook\, Twitter and Instagram. \n\n\n\nSee you for Copenhagen Pride Week!
URL:https://archive.workplacepride.org/event/copenhagen-pride-2022/
END:VEVENT
END:VCALENDAR