BEGIN:VCALENDAR
VERSION:2.0
PRODID:-//Workplace Pride - ECPv6.15.20//NONSGML v1.0//EN
CALSCALE:GREGORIAN
METHOD:PUBLISH
X-ORIGINAL-URL:https://archive.workplacepride.org
X-WR-CALDESC:Events for Workplace Pride
REFRESH-INTERVAL;VALUE=DURATION:PT1H
X-Robots-Tag:noindex
X-PUBLISHED-TTL:PT1H
BEGIN:VTIMEZONE
TZID:Europe/Amsterdam
BEGIN:DAYLIGHT
TZOFFSETFROM:+0100
TZOFFSETTO:+0200
TZNAME:CEST
DTSTART:20220327T010000
END:DAYLIGHT
BEGIN:STANDARD
TZOFFSETFROM:+0200
TZOFFSETTO:+0100
TZNAME:CET
DTSTART:20221030T010000
END:STANDARD
BEGIN:DAYLIGHT
TZOFFSETFROM:+0100
TZOFFSETTO:+0200
TZNAME:CEST
DTSTART:20230326T010000
END:DAYLIGHT
BEGIN:STANDARD
TZOFFSETFROM:+0200
TZOFFSETTO:+0100
TZNAME:CET
DTSTART:20231029T010000
END:STANDARD
BEGIN:DAYLIGHT
TZOFFSETFROM:+0100
TZOFFSETTO:+0200
TZNAME:CEST
DTSTART:20240331T010000
END:DAYLIGHT
BEGIN:STANDARD
TZOFFSETFROM:+0200
TZOFFSETTO:+0100
TZNAME:CET
DTSTART:20241027T010000
END:STANDARD
END:VTIMEZONE
BEGIN:VEVENT
DTSTART;TZID=Europe/Amsterdam:20230524T000000
DTEND;TZID=Europe/Amsterdam:20230524T235959
DTSTAMP:20260425T035805
CREATED:20230105T125652Z
LAST-MODIFIED:20230105T125957Z
UID:11861-1684886400-1684972799@archive.workplacepride.org
SUMMARY:International Pansexual and Panromantic Visibility Day
DESCRIPTION:What it Means to be Pansexual or Panromantic \n\n\n\n24 May is Pansexual and Panromantic Awareness and Visibility Day – but what exactly does it mean to be Pan? \n\n\n\n\n\n\n\nTo be pansexual is to have a sexual or romantic attraction not limited by gender\, or gender identity\, while to be panromantic is the same except without the sexual attraction. Attraction is not dependent on gender; pan people are attracted to the person before anything else. However\, this doesn’t mean they’re attracted to anyone and everyone!  \n\n\n\nThough it’s likely that pansexuality has always existed in some form\, to some degree\, it is surely no coincidence that pansexuality has become more recognised in a modern society where people are able to explore and express their sexuality more openly. We are becoming gradually more aware of the largely socially-constructed nature of binary gender separation\, and the fundamental nature of the shared humanity that unites us despite our comparatively superficial differences. Perhaps it’s not too much of a stretch to say that pansexuality reflects this.  \n\n\n\nAs Psychology Today (PT) states: \n\n\n\n”Younger generations [who are generally more open to non-traditional perspectives] and those who have a gender identity\, gender expression\, or gender role that society considers inappropriate for the sex one was assigned at birth (aka ‘non-cisgender’) are more likely to identify as pansexual.” \n\n\n\nWhatever the case\, all too often pansexuality isn’t taken seriously\, dismissed as an invented identity and casually conflated with bisexuality. But pansexuality is a legitimate sexuality in its own right\, distinguishable from bisexuality through its emphasis on being ‘gender-blind’.  \n\n\n\nPT elaborates: \n\n\n\n“Pansexuality is not equivalent to bisexuality\, because it is broader in scope. It explicitly rejects attractions based on binary notions of sex (male/female) and gender (man/woman). Whereas bisexuality implies a dichotomy\, pansexuality suggests the possibility of attraction to a spectrum of gender identities.” \n\n\n\nSinger/actor Miley Cyrus opened up about her pansexuality: \n\n\n\n“I always hated the word ‘bisexual\,’ because that’s putting me in a box. I never think about someone being a boy or a girl. I saw one human in particular who didn’t identify as male or female; they were beautiful\, sexy and tough but vulnerable\, feminine but masculine. I related to that person more than anyone in my life.” \n\n\n\nIt seems that many people identify as pansexual or panromantic because it gives their identity freedom to flow\, and enables them more room to be themselves without defining their sexuality so broadly they lose individuality. Ultimately\, it depends on how important labels are to a person\, and whether the structure it provides their sense of self outweighs the potential constraints on their identity. \n\n\n\nPT continues: \n\n\n\n“We actually know little about pansexuals and pansexuality. This is unfortunate because pansexuality is a real thing with repercussions and importance among millennial youth who are searching for identities that adequately reflect who they are.” \n\n\n\nPansexuality hasn’t come out of anywhere\, like a passing fad worn to make one seem more interesting. It isn’t unnecessarily overcomplicating bisexuality. It is simply a label for sexuality that would still exist without one\, despite not conforming to the limited views of society. \n\n\n\nLinks \n\n\n\nThe Truth About Pansexuality: https://www.psychologytoday.com/gb/blog/sex-sexuality-and-romance/201711/the-truth-about-pansexuality
URL:https://archive.workplacepride.org/event/11861/
END:VEVENT
END:VCALENDAR