BEGIN:VCALENDAR
VERSION:2.0
PRODID:-//Workplace Pride - ECPv6.15.20//NONSGML v1.0//EN
CALSCALE:GREGORIAN
METHOD:PUBLISH
X-WR-CALNAME:Workplace Pride
X-ORIGINAL-URL:https://archive.workplacepride.org
X-WR-CALDESC:Events for Workplace Pride
REFRESH-INTERVAL;VALUE=DURATION:PT1H
X-Robots-Tag:noindex
X-PUBLISHED-TTL:PT1H
BEGIN:VTIMEZONE
TZID:Europe/Amsterdam
BEGIN:DAYLIGHT
TZOFFSETFROM:+0100
TZOFFSETTO:+0200
TZNAME:CEST
DTSTART:20220327T010000
END:DAYLIGHT
BEGIN:STANDARD
TZOFFSETFROM:+0200
TZOFFSETTO:+0100
TZNAME:CET
DTSTART:20221030T010000
END:STANDARD
BEGIN:DAYLIGHT
TZOFFSETFROM:+0100
TZOFFSETTO:+0200
TZNAME:CEST
DTSTART:20230326T010000
END:DAYLIGHT
BEGIN:STANDARD
TZOFFSETFROM:+0200
TZOFFSETTO:+0100
TZNAME:CET
DTSTART:20231029T010000
END:STANDARD
BEGIN:DAYLIGHT
TZOFFSETFROM:+0100
TZOFFSETTO:+0200
TZNAME:CEST
DTSTART:20240331T010000
END:DAYLIGHT
BEGIN:STANDARD
TZOFFSETFROM:+0200
TZOFFSETTO:+0100
TZNAME:CET
DTSTART:20241027T010000
END:STANDARD
END:VTIMEZONE
BEGIN:VEVENT
DTSTART;TZID=Europe/Amsterdam:20230714T000000
DTEND;TZID=Europe/Amsterdam:20230714T235959
DTSTAMP:20260425T023423
CREATED:20230105T123656Z
LAST-MODIFIED:20230105T123931Z
UID:11854-1689292800-1689379199@archive.workplacepride.org
SUMMARY:International Non-Binary People’s Day
DESCRIPTION:International Non-Binary People’s Day takes place annually on 14 July each year and celebrates and raises awareness of non-binary people\, who do not identify within the traditional gender binary. This takes place during non-binary awareness week from Monday 11 July until Saturday 16 July 2022. \n\n\n\n Why 14 of July? \n\n\n\nThe date\, celebrated since 2012\, was chosen as it falls between International Women’s Day on 8 March and International Men’s Day on 19 November. \n\n\n\nWhat does non-binary mean? \n\n\n\nThe definition provided by Stonewall (Britain’s leading charity for lesbian\, gay\, bisexual and trans equality) is: “Non-binary is an umbrella term for people whose gender identity doesn’t sit comfortably with ‘man’ or ‘woman’. Non-binary identities are varied and can include people who identify with some aspects of binary identities\, while others reject them entirely. \n\n\n\n“Non-binary people can feel that their gender identity and gender experience involves being both a man and a woman\, or that it is fluid\, in between\, or completely outside of that binary.”
URL:https://archive.workplacepride.org/event/international-non-binary-peoples-day/
END:VEVENT
END:VCALENDAR