BEGIN:VCALENDAR
VERSION:2.0
PRODID:-//Workplace Pride - ECPv6.15.20//NONSGML v1.0//EN
CALSCALE:GREGORIAN
METHOD:PUBLISH
X-WR-CALNAME:Workplace Pride
X-ORIGINAL-URL:https://archive.workplacepride.org
X-WR-CALDESC:Events for Workplace Pride
REFRESH-INTERVAL;VALUE=DURATION:PT1H
X-Robots-Tag:noindex
X-PUBLISHED-TTL:PT1H
BEGIN:VTIMEZONE
TZID:Europe/Amsterdam
BEGIN:DAYLIGHT
TZOFFSETFROM:+0100
TZOFFSETTO:+0200
TZNAME:CEST
DTSTART:20220327T010000
END:DAYLIGHT
BEGIN:STANDARD
TZOFFSETFROM:+0200
TZOFFSETTO:+0100
TZNAME:CET
DTSTART:20221030T010000
END:STANDARD
BEGIN:DAYLIGHT
TZOFFSETFROM:+0100
TZOFFSETTO:+0200
TZNAME:CEST
DTSTART:20230326T010000
END:DAYLIGHT
BEGIN:STANDARD
TZOFFSETFROM:+0200
TZOFFSETTO:+0100
TZNAME:CET
DTSTART:20231029T010000
END:STANDARD
BEGIN:DAYLIGHT
TZOFFSETFROM:+0100
TZOFFSETTO:+0200
TZNAME:CEST
DTSTART:20240331T010000
END:DAYLIGHT
BEGIN:STANDARD
TZOFFSETFROM:+0200
TZOFFSETTO:+0100
TZNAME:CET
DTSTART:20241027T010000
END:STANDARD
END:VTIMEZONE
BEGIN:VEVENT
DTSTART;TZID=Europe/Amsterdam:20230919T120000
DTEND;TZID=Europe/Amsterdam:20230919T173000
DTSTAMP:20260424T231354
CREATED:20230830T090148Z
LAST-MODIFIED:20230907T120535Z
UID:13213-1695124800-1695144600@archive.workplacepride.org
SUMMARY:Tech@workplacepride: “Out@Work”
DESCRIPTION:REGISTER NOW!\n\n\n\n\n \n\n\n\nTech@Workplace Pride invites you to:\n\n\n\nA company visit at Eaton in Hengelo\, 19 September 2023 \n\n\n\n“Out@Work” Location: Eaton Industries Netherlands BV – The GreenBoxAddress: Europalaan 202\, 7559 SC HengeloDate: Tuesday\, 19 September 2023Time: 12:00 -17:30 hours \n\n\n\nAbout the visit:\n\n\n\nEaton is an intelligent power management company dedicated to improving the quality of life andprotecting the environment for people everywhere. We are guided by our commitment to do businessright\, operate sustainably\, and help our customers manage power ─ today and well into the future.Founded in 1911\, Eaton is marking its 100th anniversary of being listed on the New York Stock Exchange.We reported revenues of $20.8 billion in 2022 and serve customers in more than 170 countries.At Eaton\, we aspire to be a model of inclusion and diversity in our industry—known for how we welcomeall people to the table and include them by listening to what they have to offer. We’re doing this becausewe believe a diverse workforce makes better decisions. We embrace the power of many perspectives todrive innovation and sustainable growth that benefits our people\, investors\, customers and communities.As we approach Coming Out Day (October 11th)\, this visit aims to bring participants from differentcompanies in our industry to discuss the theme “Out@Work”. We want to brainstorm with you all on howto increase acceptance at the workplace for all individuals\, regardless of their sexual orientation oridentity. \n\n\n\nSchedule:\n\n\n\n12.00 – 13.00      Welcoming at Eaton\, with lunch13.00 – 13.45      “We Make PRIDE Work”\, Introduction to Eaton and the Eaton PRIDE iERG by Eugén                              Ranft\, Managing Director and Plant Manager from Eaton Industries Netherlands B.V. in                             Hengelo and Barış Ekici\, EMEA leader of the Eaton PRIDE iERG. (live streaming)13.45 – 15.00      Tour at the Eaton production site15.00 – 15.15      Coffee break15:15 – 16:15      “Out@Work”\, Workshop organized by Marco Strijks\, Liaison Office Diversity & Inclusion                            from Th!nk with PRIDE/Saxion and Renan Machado Cardoso\, Global Inclusion and                            Diversity Project Lead from Eaton. (live streaming)16.15 – 16.30      Closing word16.30 – 17.30      Drinks \n\n\n\nPlease register via this link! \n\n\n\n \n\n\n\n We have limited in person space so: First come first serve
URL:https://archive.workplacepride.org/event/techworkplacepride-outwork/
LOCATION:Eaton Industries (Netherlands) B.V.\, Van Voordenpark 1D\,\, Zaltbommel\, 5301 KP\, Netherlands
CATEGORIES:2023 Events,tech@workplacepride.org
END:VEVENT
END:VCALENDAR