BEGIN:VCALENDAR
VERSION:2.0
PRODID:-//Workplace Pride - ECPv6.15.20//NONSGML v1.0//EN
CALSCALE:GREGORIAN
METHOD:PUBLISH
X-WR-CALNAME:Workplace Pride
X-ORIGINAL-URL:https://archive.workplacepride.org
X-WR-CALDESC:Events for Workplace Pride
REFRESH-INTERVAL;VALUE=DURATION:PT1H
X-Robots-Tag:noindex
X-PUBLISHED-TTL:PT1H
BEGIN:VTIMEZONE
TZID:Europe/Amsterdam
BEGIN:DAYLIGHT
TZOFFSETFROM:+0100
TZOFFSETTO:+0200
TZNAME:CEST
DTSTART:20230326T010000
END:DAYLIGHT
BEGIN:STANDARD
TZOFFSETFROM:+0200
TZOFFSETTO:+0100
TZNAME:CET
DTSTART:20231029T010000
END:STANDARD
BEGIN:DAYLIGHT
TZOFFSETFROM:+0100
TZOFFSETTO:+0200
TZNAME:CEST
DTSTART:20240331T010000
END:DAYLIGHT
BEGIN:STANDARD
TZOFFSETFROM:+0200
TZOFFSETTO:+0100
TZNAME:CET
DTSTART:20241027T010000
END:STANDARD
BEGIN:DAYLIGHT
TZOFFSETFROM:+0100
TZOFFSETTO:+0200
TZNAME:CEST
DTSTART:20250330T010000
END:DAYLIGHT
BEGIN:STANDARD
TZOFFSETFROM:+0200
TZOFFSETTO:+0100
TZNAME:CET
DTSTART:20251026T010000
END:STANDARD
END:VTIMEZONE
BEGIN:VEVENT
DTSTART;TZID=Europe/Amsterdam:20240118T154500
DTEND;TZID=Europe/Amsterdam:20240118T190000
DTSTAMP:20260424T182334
CREATED:20240110T110329Z
LAST-MODIFIED:20240110T113016Z
UID:14218-1705592700-1705604400@archive.workplacepride.org
SUMMARY:Corporate Activism Training
DESCRIPTION:Young@WorkplacePride extends a warm invitation to participants of the Mentorship Program and members of Workplace Pride to register for an impactful training session at Erasmus University Rotterdam on Thursday\, 18th January. Join us for an enriching experience with speakers Prof. Dr. Annelien Bredenoord and Nori Spauwen\, offering valuable insights into the realm of Corporate Activism. \n\n\n\nThis training session is open to participants enrolled in the mentorship program and Workplace Pride members alike. We encourage you to extend this invitation to your colleagues\, and kindly request you and your colleague(s) to register using the button below. \n\n\n\n\nRegister Here\n\n\n\n\nWe cordially invite all attendees to participate in the training\, which will also be accessible via Zoom. The link for the online session will be shared with you at a later date. To assist us in managing capacity effectively\, we kindly request you to complete the registration form indicating your participation preferences. \n\n\n\nThe Board of Young@Workplace Pride looks forward to your active involvement. \n\n\n\nEvent Schedule: \n\n\n\n\n15:45: Doors open\n\n\n\n16:00: Plenary opening\n\n\n\n16:10: Address by Prof. Dr. Annelien Bredenoord\n\n\n\n16:30: Training on ‘Corporate Activism’ by Nori Spauwen\n\n\n\n18:00: Networking drinks at FERRY (Westblaak 127\, Rotterdam)\n\n\n\n\nSpeakers: \n\n\n\nProf. Dr. Annelien Bredenoord Prof. Dr. Annelien Bredenoord serves as the Rector Magnificus of Erasmus University Rotterdam. Her responsibilities encompass education\, research\, and impact\, with a focus on academic staff\, students\, and science education. Additionally\, she holds the position of a professor\, a member of the Dutch Senate\, and is engaged at the intersection of healthcare\, technology\, innovation\, ethics\, and politics. \n\n\n\nNori Spauwen Nori Spauwen is a distinguished activist\, philosopher\, and former diplomat. With a background in Global Justice from Yale\, Nori has championed LGBTI human rights at the UN\, served as editor-in-chief of Expreszo (the Dutch LGBTI youth magazine)\, and conducted training for LGBTI activists globally. In 2021\, she founded the Embassy of Change\, guiding idealists to become effective and healthy change-makers. Nori is also a columnist for the Financieele Dagblad and is currently working on a book on activism. \n\n\n\nHow to Reach the Venue: \n\n\n\nThe training will be hosted at Erasmus University Rotterdam\, Woudestein Campus (Burgemeester Oudlaan 50\, Rotterdam). Navigate to Theil Building (C)\, Room C2-1 (second floor\, first room). For a campus map\, please click here. \n\n\n\nErasmus University is conveniently accessible by metro lines A\, B\, and C (exit at Kralingse Zoom)\, tram lines 21 and 24 (exit at Oude Plantage)\, and tram line 7 (exit at Erasmus Universiteit). Parking on campus is also available at a rate of €1.00 per twenty minutes\, with a maximum day fee of €10.00. \n\n\n\nWe look forward to your participation in this insightful training session.
URL:https://archive.workplacepride.org/event/corporate-activism-training/
CATEGORIES:Europe,Mentorship Program,young@workplacepride.org
ATTACH;FMTTYPE=image/jpeg:https://archive.workplacepride.org/wp-content/uploads/2023/09/wp-page-banner-mentorship.jpg
END:VEVENT
END:VCALENDAR