BEGIN:VCALENDAR
VERSION:2.0
PRODID:-//Workplace Pride - ECPv6.15.20//NONSGML v1.0//EN
CALSCALE:GREGORIAN
METHOD:PUBLISH
X-WR-CALNAME:Workplace Pride
X-ORIGINAL-URL:https://archive.workplacepride.org
X-WR-CALDESC:Events for Workplace Pride
REFRESH-INTERVAL;VALUE=DURATION:PT1H
X-Robots-Tag:noindex
X-PUBLISHED-TTL:PT1H
BEGIN:VTIMEZONE
TZID:Europe/Amsterdam
BEGIN:DAYLIGHT
TZOFFSETFROM:+0100
TZOFFSETTO:+0200
TZNAME:CEST
DTSTART:20230326T010000
END:DAYLIGHT
BEGIN:STANDARD
TZOFFSETFROM:+0200
TZOFFSETTO:+0100
TZNAME:CET
DTSTART:20231029T010000
END:STANDARD
BEGIN:DAYLIGHT
TZOFFSETFROM:+0100
TZOFFSETTO:+0200
TZNAME:CEST
DTSTART:20240331T010000
END:DAYLIGHT
BEGIN:STANDARD
TZOFFSETFROM:+0200
TZOFFSETTO:+0100
TZNAME:CET
DTSTART:20241027T010000
END:STANDARD
BEGIN:DAYLIGHT
TZOFFSETFROM:+0100
TZOFFSETTO:+0200
TZNAME:CEST
DTSTART:20250330T010000
END:DAYLIGHT
BEGIN:STANDARD
TZOFFSETFROM:+0200
TZOFFSETTO:+0100
TZNAME:CET
DTSTART:20251026T010000
END:STANDARD
END:VTIMEZONE
BEGIN:VEVENT
DTSTART;TZID=Europe/Amsterdam:20240125T180000
DTEND;TZID=Europe/Amsterdam:20240125T203000
DTSTAMP:20260424T182352
CREATED:20230418T122421Z
LAST-MODIFIED:20240130T134534Z
UID:12183-1706205600-1706214600@archive.workplacepride.org
SUMMARY:Workplace Pride Annual Members Meeting & New Years Reception
DESCRIPTION:HOSTED BY APG and Intertrust Group a CSC Company \n\n\n\nProgram DetailsRegistrationStreaming InformationLocationPresentation\n\nOn behalf of the Foundation Board\, we are pleased to invite you to the Workplace Pride Annual Members Meeting and New Year’s Reception. This meeting will present an overview of the Foundation’s accomplishments in 2023 and its plans for 2024. \n\n\n\nThis event is generously hosted by Workplace Pride Partner APG and Member Intertrust Group a CSC Company in their EDGE West location in Amsterdam.. \n\n\n\nDetails of the meeting are as follows: \n\n\n\nDate:Thursday\, January 25th\, 2024 \n\n\n\nTime: 18:00-21:00 \n\n\n\nOverview: \n\n\n\n18:00-18:30: Registration \n\n\n\n18:30-19:30: Meeting with presentations from the Workplace Pride Board and Staff\, as well as representatives from APG and Intertrust. \n\n\n\n19:30-21:00: New Year’s Reception with drinks\, snacks & networking \n\n\n\n\n\nExclusive registration is closed. \n\n\n\n\n\n\n\n\n\n\n\nVenue: EDGE Amsterdam West\, Basisweg 10\, 1043 AP Amsterdam\, APG Entrance \n\n\n\nMore information regarding public transportation and arriving by car is located here. \n\n\n\n\n\nDownload the presentation here. \n\n\n\n\n\nAttendees: Workplace Pride Members only
URL:https://archive.workplacepride.org/event/workplace-pride-annual-members-meeting/
LOCATION:EDGE Amsterdam West\, Basisweg 10\, 1043 AP Amsterdam\, 1043 AP\, Netherlands
CATEGORIES:2023 Events,Annual Members Meeting,Workplace Pride Online
ATTACH;FMTTYPE=image/jpeg:https://archive.workplacepride.org/wp-content/uploads/2024/01/WP-AMMeeting-2023-Invite-Header-4.jpg
ORGANIZER;CN="Workplace Pride Foundation":MAILTO:info@workplacepride.org
END:VEVENT
END:VCALENDAR