BEGIN:VCALENDAR
VERSION:2.0
PRODID:-//Workplace Pride - ECPv6.15.20//NONSGML v1.0//EN
CALSCALE:GREGORIAN
METHOD:PUBLISH
X-WR-CALNAME:Workplace Pride
X-ORIGINAL-URL:https://archive.workplacepride.org
X-WR-CALDESC:Events for Workplace Pride
REFRESH-INTERVAL;VALUE=DURATION:PT1H
X-Robots-Tag:noindex
X-PUBLISHED-TTL:PT1H
BEGIN:VTIMEZONE
TZID:Europe/Amsterdam
BEGIN:DAYLIGHT
TZOFFSETFROM:+0100
TZOFFSETTO:+0200
TZNAME:CEST
DTSTART:20230326T010000
END:DAYLIGHT
BEGIN:STANDARD
TZOFFSETFROM:+0200
TZOFFSETTO:+0100
TZNAME:CET
DTSTART:20231029T010000
END:STANDARD
BEGIN:DAYLIGHT
TZOFFSETFROM:+0100
TZOFFSETTO:+0200
TZNAME:CEST
DTSTART:20240331T010000
END:DAYLIGHT
BEGIN:STANDARD
TZOFFSETFROM:+0200
TZOFFSETTO:+0100
TZNAME:CET
DTSTART:20241027T010000
END:STANDARD
BEGIN:DAYLIGHT
TZOFFSETFROM:+0100
TZOFFSETTO:+0200
TZNAME:CEST
DTSTART:20250330T010000
END:DAYLIGHT
BEGIN:STANDARD
TZOFFSETFROM:+0200
TZOFFSETTO:+0100
TZNAME:CET
DTSTART:20251026T010000
END:STANDARD
END:VTIMEZONE
BEGIN:VEVENT
DTSTART;TZID=Europe/Amsterdam:20240312T093000
DTEND;TZID=Europe/Amsterdam:20240312T103000
DTSTAMP:20260424T154140
CREATED:20240130T145317Z
LAST-MODIFIED:20240508T164806Z
UID:14471-1710235800-1710239400@archive.workplacepride.org
SUMMARY:2024 Member Exchange 2
DESCRIPTION:In this second member exchange session of 2024\, three of the five leaders of the Workplace Pride Communities; Trans+\, Women and Young\, will share their experiences\, following by interaction with the audience and discussing progress on the different topics. \n\n\n\nAll Workplace Pride member organisations employ people who are each connected to the LGBTIQ+ community in their own way. We might better say\, the Communities are and constitute Workplace Pride. Participating in Community events and activities promotes cooperation and gives visibility to participating organisations. Sharing knowledge\, connecting\, and being aware of each other’s workplace creates a broader picture of all the challenges faced by the LGBTIQ+ community both at work and in society worldwide. \n\n\n\nAfter this session you will have a good understanding of the value of our different communities\, helping you with your journey to create an even more inclusive workplace.  \n\n\n\nThese sessions are designed to be informal and to bring members together to share experience\, to learn from one another\, and to build connections for future collaboration. Feel free to invite other employees from your organization to listen in. \n\n\n\nTo join by zoom\, please contact your Relationship Manager. \n\n\n\nHope to see you there\, \n\n\n\nChristine\, Yuli\, Omar\, Robert and BrianRelationship Managers
URL:https://archive.workplacepride.org/event/2024-member-exchange-2/
CATEGORIES:Member Exchange Meetings
ATTACH;FMTTYPE=image/jpeg:https://archive.workplacepride.org/wp-content/uploads/2024/01/2024-WP-Member-Exchange-2.jpg
END:VEVENT
END:VCALENDAR