BEGIN:VCALENDAR
VERSION:2.0
PRODID:-//Workplace Pride - ECPv6.15.20//NONSGML v1.0//EN
CALSCALE:GREGORIAN
METHOD:PUBLISH
X-ORIGINAL-URL:https://archive.workplacepride.org
X-WR-CALDESC:Events for Workplace Pride
REFRESH-INTERVAL;VALUE=DURATION:PT1H
X-Robots-Tag:noindex
X-PUBLISHED-TTL:PT1H
BEGIN:VTIMEZONE
TZID:Europe/Amsterdam
BEGIN:DAYLIGHT
TZOFFSETFROM:+0100
TZOFFSETTO:+0200
TZNAME:CEST
DTSTART:20230326T010000
END:DAYLIGHT
BEGIN:STANDARD
TZOFFSETFROM:+0200
TZOFFSETTO:+0100
TZNAME:CET
DTSTART:20231029T010000
END:STANDARD
BEGIN:DAYLIGHT
TZOFFSETFROM:+0100
TZOFFSETTO:+0200
TZNAME:CEST
DTSTART:20240331T010000
END:DAYLIGHT
BEGIN:STANDARD
TZOFFSETFROM:+0200
TZOFFSETTO:+0100
TZNAME:CET
DTSTART:20241027T010000
END:STANDARD
BEGIN:DAYLIGHT
TZOFFSETFROM:+0100
TZOFFSETTO:+0200
TZNAME:CEST
DTSTART:20250330T010000
END:DAYLIGHT
BEGIN:STANDARD
TZOFFSETFROM:+0200
TZOFFSETTO:+0100
TZNAME:CET
DTSTART:20251026T010000
END:STANDARD
END:VTIMEZONE
BEGIN:VEVENT
DTSTART;TZID=Europe/Amsterdam:20240430T123000
DTEND;TZID=Europe/Amsterdam:20240430T133000
DTSTAMP:20260422T201243
CREATED:20240409T084707Z
LAST-MODIFIED:20240417T072436Z
UID:15702-1714480200-1714483800@archive.workplacepride.org
SUMMARY:The complexities and challenges for intersex persons at work: Member Exchange #3
DESCRIPTION:Member Only Event \n\n\n\n\n\n\n\nPromoting intersex workplace inclusion enhances diversity\, fosters a supportive environment\, and improves employee well-being. Including intersex and professionals in the workplace involves an environment where all employees feel respected and valued\, regardless of their identities. It also promotes a more innovative and dynamic work culture by embracing diverse perspectives and talents. In the next member exchange session\, the participant will gain an understanding of the difference between sex and gender. Moreover\, the participants will learn about the organisational benefits of an inclusive work culture for intersex professionals. \n\n\n\nMain take aways: \n\n\n\n1. Understand the concept of sex and how it differs from gender identity.2. Acknowledge the challenges intersex professionals face in the workplace.3. Defend the organizational benefits of an inclusive work environment for intersex professionals. \n\n\n\nAt Workplace Pride we hold regular member exchanges. These member exchanges are interactions\, collaborations\, and support networks established among members of Workplace Pride who share a commitment to promoting LGBTIQ+ inclusion in the workplace. These exchanges involve the sharing of knowledge\, experiences\, best practices\, and resources related to fostering diversity\, equity\, and inclusion (DEI) in work environments. \n\n\n\n\nMember Login Access
URL:https://archive.workplacepride.org/event/member-exchange-3/
ATTACH;FMTTYPE=image/jpeg:https://archive.workplacepride.org/wp-content/uploads/2024/04/2024-WP-Member-Exchange-3.jpg
END:VEVENT
END:VCALENDAR