BEGIN:VCALENDAR
VERSION:2.0
PRODID:-//Workplace Pride - ECPv6.15.20//NONSGML v1.0//EN
CALSCALE:GREGORIAN
METHOD:PUBLISH
X-WR-CALNAME:Workplace Pride
X-ORIGINAL-URL:https://archive.workplacepride.org
X-WR-CALDESC:Events for Workplace Pride
REFRESH-INTERVAL;VALUE=DURATION:PT1H
X-Robots-Tag:noindex
X-PUBLISHED-TTL:PT1H
BEGIN:VTIMEZONE
TZID:Europe/Amsterdam
BEGIN:DAYLIGHT
TZOFFSETFROM:+0100
TZOFFSETTO:+0200
TZNAME:CEST
DTSTART:20230326T010000
END:DAYLIGHT
BEGIN:STANDARD
TZOFFSETFROM:+0200
TZOFFSETTO:+0100
TZNAME:CET
DTSTART:20231029T010000
END:STANDARD
BEGIN:DAYLIGHT
TZOFFSETFROM:+0100
TZOFFSETTO:+0200
TZNAME:CEST
DTSTART:20240331T010000
END:DAYLIGHT
BEGIN:STANDARD
TZOFFSETFROM:+0200
TZOFFSETTO:+0100
TZNAME:CET
DTSTART:20241027T010000
END:STANDARD
BEGIN:DAYLIGHT
TZOFFSETFROM:+0100
TZOFFSETTO:+0200
TZNAME:CEST
DTSTART:20250330T010000
END:DAYLIGHT
BEGIN:STANDARD
TZOFFSETFROM:+0200
TZOFFSETTO:+0100
TZNAME:CET
DTSTART:20251026T010000
END:STANDARD
END:VTIMEZONE
BEGIN:VEVENT
DTSTART;TZID=Europe/Amsterdam:20240508T150000
DTEND;TZID=Europe/Amsterdam:20240508T163000
DTSTAMP:20260422T200929
CREATED:20240508T135736Z
LAST-MODIFIED:20240508T164457Z
UID:15987-1715180400-1715185800@archive.workplacepride.org
SUMMARY:Global Leader Council Q2
DESCRIPTION:Members Only Event\n\n\n\nYou are invited to the 2024 2nd Quarter meeting of the Global Leaders Council (GLC) \n\n\n\nThe GLC is an online quarterly forum in which Workplace Pride members can have a high-level discussion on strategic topics important to LGBTIQ+ inclusion in the workplace.  GLC participants should be decision-makers or major influencers within their own organisations.  \n\n\n\nAn agenda will be available closer to the meeting. Workplace Pride is inviting you to a scheduled Zoom meeting.
URL:https://archive.workplacepride.org/event/global-leader-council-q2/
CATEGORIES:2024 Events,Global Leaders Council
ATTACH;FMTTYPE=image/jpeg:https://archive.workplacepride.org/wp-content/uploads/2024/05/20240508-GLCQ2-Banner.jpg
END:VEVENT
END:VCALENDAR