BEGIN:VCALENDAR
VERSION:2.0
PRODID:-//Workplace Pride - ECPv6.15.20//NONSGML v1.0//EN
CALSCALE:GREGORIAN
METHOD:PUBLISH
X-WR-CALNAME:Workplace Pride
X-ORIGINAL-URL:https://archive.workplacepride.org
X-WR-CALDESC:Events for Workplace Pride
REFRESH-INTERVAL;VALUE=DURATION:PT1H
X-Robots-Tag:noindex
X-PUBLISHED-TTL:PT1H
BEGIN:VTIMEZONE
TZID:Europe/Amsterdam
BEGIN:DAYLIGHT
TZOFFSETFROM:+0100
TZOFFSETTO:+0200
TZNAME:CEST
DTSTART:20230326T010000
END:DAYLIGHT
BEGIN:STANDARD
TZOFFSETFROM:+0200
TZOFFSETTO:+0100
TZNAME:CET
DTSTART:20231029T010000
END:STANDARD
BEGIN:DAYLIGHT
TZOFFSETFROM:+0100
TZOFFSETTO:+0200
TZNAME:CEST
DTSTART:20240331T010000
END:DAYLIGHT
BEGIN:STANDARD
TZOFFSETFROM:+0200
TZOFFSETTO:+0100
TZNAME:CET
DTSTART:20241027T010000
END:STANDARD
BEGIN:DAYLIGHT
TZOFFSETFROM:+0100
TZOFFSETTO:+0200
TZNAME:CEST
DTSTART:20250330T010000
END:DAYLIGHT
BEGIN:STANDARD
TZOFFSETFROM:+0200
TZOFFSETTO:+0100
TZNAME:CET
DTSTART:20251026T010000
END:STANDARD
END:VTIMEZONE
BEGIN:VEVENT
DTSTART;TZID=Europe/Amsterdam:20240905T100000
DTEND;TZID=Europe/Amsterdam:20240905T130000
DTSTAMP:20260422T142057
CREATED:20240701T075845Z
LAST-MODIFIED:20241002T162240Z
UID:16512-1725530400-1725541200@archive.workplacepride.org
SUMMARY:2024 LGBTIQ+ Workplace Inclusion Symposium
DESCRIPTION:Unlock the power of inclusivity at this year’s LGBTIQ+ Workplace Inclusion Symposium. Join us for keynote presentations by Dr. Erin Cech (University of Michigan\, USA) and Prof. Dr. Jojanneke van der Toorn (Leiden University\, NL)\, who will delve into the latest cutting-edge research on LGBTIQ+ inclusion. \n\n\n\n\n\n\n\n\n\nDetailsProgramAbstractSummary ArticleLive Stream RecordingSymposium SlidesPhotos\n\n2024 LGBTIQ+ Workplace Inclusion SymposiumUnlock the power of inclusivity at this year’s LGBTIQ+ Workplace Inclusion Symposium\, featuring keynote presentations by dr. Erin Cech (University of Michigan\, USA) and Prof.dr. Jojanneke van der Toorn (Leiden University\, NL) delving into the latest cutting-edge research on LGBTIQ+ inclusion. A panel including researchers and D&I professionals from the public and private sector will furthermore reflect on the research findings and recommendations\, and share concrete examples of how organizations can build inclusive environments. Connect with fellow attendees over coffee and tea\, fostering meaningful relationships with like-minded individuals committed to driving positive change in their respective organizations. Join us in this critical dialogue to make a difference and foster a workplace where everyone can belong and bring their authentic selves. \n\n\n\nDate: Thursday\, September 5thTime: 10.00-13.00Location: Telders Auditorium\, Rapenburg 73\, Leiden \n\n\n\n\n\n\n\nRegistration \n\n\n\nThe event is in-person but will be streamed and recorded for those not able to attend. Please register using the registration form.  \n\n\n\nOrganisers \n\n\n\nThis event is organised by Jojanneke van der Toorn in collaboration with Academia@WorkplacePride. We can be contacted at lgbtqi.inclusion@gmail.com \n\n\n\nAccessibility \n\n\n\nWe would like the symposium to be accessible to everyone. We hope the absence of a participation fee and the possibility to view a live stream contribute to this. Please note that the symposium location is wheelchair accessible. We will make sure to ask the speakers to articulate clearly. We very much welcome your suggestions for how we can be more inclusive. \n\n\n\n\n\n\n\n \n\n\n\n\n\n\n\n\n\nProgram \n\n\n\n10:00-10:30       Doors open and registration10:30-12:00       Symposium  \n\n\n\n\nWelcomeMichiel Kolman\, Senior Vice President at Elsevier and Co-chair of Workplace Pride. Jojanneke van der Toorn\, Professor of LGBTIQ+ Workplace Inclusion at Leiden University\n\n\n\nThe contours and contexts of LGBTIQ+ workforce inequality and how to confront themDr. Erin Cech\, Associate Professor of Sociology at the University of Michigan\, USA\n\n\n\nTo be professional is to be straight?: Heteroprofessionalism at WorkProf.dr. Jojanneke van der Toorn\, Professor of LGBTIQ+ Workplace Inclusion at Leiden University\n\n\n\n\n\nReflections and illustrations from the field  Panel discussion\, moderated by Kshitij Mor\, PhD candidate at Utrecht University[MOU1] \n\n\n\nClosing and presentation of the Academia@Workplace Pride program for the academic year 2024/2025Michiel Kolman\, Senior Vice President at Elsevier and Co-chair of Workplace Pride\n\n\n\n\n12.00-13.00        Coffee and Tea \n\n\n\n \n\n\n\n\n\nThe contours and contexts of LGBTIQ+ workforce inequality and how to confront them \n\n\n\nDr. Erin Cech (Department of Sociology at the University of Michigan) \n\n\n\nHow does LGBTIQ+ inequality manifest in the workforce? This talk will begin with an overview of the various ways this inequality can show up: disadvantages can emerge not only in feelings of social marginalization\, but in a lack of professional respect and opportunities and even negative health and wellness outcomes. I discuss the kinds of work contexts that can amplify or undermine these inequalities\, using the science and tech sector as a case. I end by discussing the cultural “rhetorics of resistance” that employees and organization leaders sometimes use to block LGBTIQ+-inclusive diversification efforts and strategies for confronting those rhetorics. \n\n\n\n\n\n\n\nTo be professional is to be straight?: Heteroprofessionalism at work \n\n\n\nProf.dr. Jojanneke van der Toorn (Institute of Psychology at Leiden University) \n\n\n\nThis talk explores the intricate dynamics of heteroprofessionalism in the workplace\, focusing on the repercussions of possessing and disclosing an LGBTIQ+ identity on employees’ well-being and career trajectories. It delves into how disclosing a queer identity can be a double-edged sword\, with disclosure perceived as unprofessional while concealment is seen as dishonest. The talk also addresses the diverse experiences within different subgroups of the LGBTIQ+ community\, underscoring the complex challenges faced by LGBTIQ+ individuals in professional settings\, and advocates for inclusive organizational policies that support authenticity and professional equality for LGBTIQ+ employees. \n\n\n\n\n\n“For us to solve these deeply culturally entrenched problems\, we have to restructure the very idea of what it means to be a professional” – Dr. Erin Cech (University of Michigan)This quote nicely summarises the key message of last week’s LGBTIQ+ Workplace Inclusion Symposium at Leiden University\, marking the opening of the Academia@WorkplacePride year.The symposium was opened by Michiel Kolman \, Workplace Pride co-chair and Academia@WorkplacePride Lead who highlighted the increasing importance of bridging science and practice given the worrying trends in lgbtiq+ acceptance near and far.In her keynote\, Erin A. Cech provided an overview of the various ways that LGBTIQ+ inequality can show up in the workplace: disadvantages can emerge not only in feelings of social marginalisation\, but in a lack of professional respect and opportunities and even negative health and wellness outcomes. She discussed the kinds of work contexts that can amplify or undermine these inequalities\, using the science and tech sector as a case\, and ended by discussing the cultural “rhetorics of resistance” that employees and organisation leaders sometimes use to block LGBTIQ+-inclusive diversification efforts and strategies for confronting those rhetorics.In my keynote\, I further discussed the implications of heteronormativity at work by discussing the concept of heteroprofessionalism\, or the norm that to be professional is to be cisgender and straight. I presented recent research findings demonstrating how disclosing a queer identity can be a double-edged sword\, with disclosure perceived as unprofessional while concealment is seen as dishonest. I also addressed the specific challenges experienced bi+ employees\, and what can be done to mitigate these.Then\, a panel consisting of Melati Tamsma\, Pascale Wautelet\, and Roos Beerkens PhD\, and moderated by Kshitij Mor reflected on the keynotes\, offering insights and examples from their diverse workplaces.Many thanks to the audience for participating in the symposium\, the speakers\, moderator\, and panelists for sharing their insights\, and Christine Holtkamp\, Chenhao Zhou and Paula Hoffmann for their tireless efforts behind the scenes towards making the symposium a success! \n\n\n\n\n\n\n\nOn behalf of Leiden University\, Workplace Pride\, and the organising team\, \n\n\n\nProf.dr. Jojanneke van der Toorn \n\n\n\nwww.jvandertoorn.com \n\n\n\n\n\n\n\n2024 LGBTIQ+ Workplace Inclusion Symposium\n\n\n\n\n\nYou can download the Symposium Slides here! \n\n\n\n\nDownload Presentation
URL:https://archive.workplacepride.org/event/2024-lgbtiq-workplace-inclusion-symposium/
CATEGORIES:2024 Events,Academia@workplacepride.org,Hybrid Event
ATTACH;FMTTYPE=image/jpeg:https://archive.workplacepride.org/wp-content/uploads/2024/07/WP-LS-MC-HeaderBanner-2024.jpg
END:VEVENT
BEGIN:VEVENT
DTSTART;TZID=Europe/Amsterdam:20240905T160000
DTEND;TZID=Europe/Amsterdam:20240905T180000
DTSTAMP:20260422T142057
CREATED:20240813T101251Z
LAST-MODIFIED:20240813T101749Z
UID:16851-1725552000-1725559200@archive.workplacepride.org
SUMMARY:LDE Pride academic year kick-off
DESCRIPTION:Join the LDE pride networks for a festive kick-off of the new academic year. The theme for this kick-off event is the intersections of the Dutch migration/asylum procedure and trans related healthcare. Our special guest Alejandra Ortiz\, author of the book De waarheid zal me bevrijden\, will speak about her experiences and encounters with the Dutch healthcare system as a trans woman who has applied for refugee status in 2015 and whose application is still pending. \n\n\n\n\nRegister Today!
URL:https://archive.workplacepride.org/event/lde-pride-academic-year-kick-off/
CATEGORIES:2024 Events,Academia@workplacepride.org,General Events,Hybrid Event
END:VEVENT
END:VCALENDAR