BEGIN:VCALENDAR
VERSION:2.0
PRODID:-//Workplace Pride - ECPv6.15.20//NONSGML v1.0//EN
CALSCALE:GREGORIAN
METHOD:PUBLISH
X-ORIGINAL-URL:https://archive.workplacepride.org
X-WR-CALDESC:Events for Workplace Pride
REFRESH-INTERVAL;VALUE=DURATION:PT1H
X-Robots-Tag:noindex
X-PUBLISHED-TTL:PT1H
BEGIN:VTIMEZONE
TZID:Europe/Amsterdam
BEGIN:DAYLIGHT
TZOFFSETFROM:+0100
TZOFFSETTO:+0200
TZNAME:CEST
DTSTART:20240331T010000
END:DAYLIGHT
BEGIN:STANDARD
TZOFFSETFROM:+0200
TZOFFSETTO:+0100
TZNAME:CET
DTSTART:20241027T010000
END:STANDARD
BEGIN:DAYLIGHT
TZOFFSETFROM:+0100
TZOFFSETTO:+0200
TZNAME:CEST
DTSTART:20250330T010000
END:DAYLIGHT
BEGIN:STANDARD
TZOFFSETFROM:+0200
TZOFFSETTO:+0100
TZNAME:CET
DTSTART:20251026T010000
END:STANDARD
BEGIN:DAYLIGHT
TZOFFSETFROM:+0100
TZOFFSETTO:+0200
TZNAME:CEST
DTSTART:20260329T010000
END:DAYLIGHT
BEGIN:STANDARD
TZOFFSETFROM:+0200
TZOFFSETTO:+0100
TZNAME:CET
DTSTART:20261025T010000
END:STANDARD
END:VTIMEZONE
BEGIN:VEVENT
DTSTART;TZID=Europe/Amsterdam:20250710T123000
DTEND;TZID=Europe/Amsterdam:20250710T133000
DTSTAMP:20260421T175436
CREATED:20241218T135056Z
LAST-MODIFIED:20250603T081857Z
UID:17550-1752150600-1752154200@archive.workplacepride.org
SUMMARY:Member Exchange MX3 2025
DESCRIPTION:Title \n\n\n\nCelebrating LGBTIQ+ All Year \n\n\n\nModerator: Kailin Levson \n\n\n\nPresenting Organisations / Panellists: \n\n\n\nAbstract: \n\n\n\nSome organisations celebrate Pride month through large-scale campaigns\, raising and flying the LGBTIQ+ Pride flag\, or even through particular rainbow-themed marketing strategies in the month of June. In the worldwide political climate\, these extravagant celebrations may not be possible for more and more organisations. Amidst fear of backlash\, the need to maintain neutrality\, and the desire to avoid performative allyship\, Workplace Pride members come together to discuss the motivations of specifically celebrating Pride as a method of protecting and engaging diverse stakeholders. Together we will talk about all of the ways companies can navigate Pride celebrations throughout the year as a directive to foster inclusivity and support. \n\n\n\nObjectives \n\n\n\nDiscussion of the motivations for pride celebrations \n\n\n\nAddress the risks and rewards of engaging in pride celebrations authentically and all year \n\n\n\nExplore examples of how organisations can adapt their pride strategies to adhere to the current international political context. \n\n\n\nAt Workplace Pride we hold regular member exchanges. These member exchanges are interactions\, collaborations\, and support networks established among members of Workplace Pride who share a commitment to promoting LGBTIQ+ inclusion in the workplace. These exchanges involve the sharing of knowledge\, experiences\, best practices\, and resources related to fostering diversity\, equity\, and inclusion (DEI) in work environments. \n\n\n\nHope to see you there\, \n\n\n\nChristine\, Yuli\, Omar\, Robert and BrianRelationship Managers
URL:https://archive.workplacepride.org/event/member-exchange-mx4-2025/
ATTACH;FMTTYPE=image/jpeg:https://archive.workplacepride.org/wp-content/uploads/2024/05/20240606-MemberExchange-Banner.jpg
END:VEVENT
END:VCALENDAR