BEGIN:VCALENDAR
VERSION:2.0
PRODID:-//Workplace Pride - ECPv6.15.20//NONSGML v1.0//EN
CALSCALE:GREGORIAN
METHOD:PUBLISH
X-ORIGINAL-URL:https://archive.workplacepride.org
X-WR-CALDESC:Events for Workplace Pride
REFRESH-INTERVAL;VALUE=DURATION:PT1H
X-Robots-Tag:noindex
X-PUBLISHED-TTL:PT1H
BEGIN:VTIMEZONE
TZID:Europe/Amsterdam
BEGIN:DAYLIGHT
TZOFFSETFROM:+0100
TZOFFSETTO:+0200
TZNAME:CEST
DTSTART:20240331T010000
END:DAYLIGHT
BEGIN:STANDARD
TZOFFSETFROM:+0200
TZOFFSETTO:+0100
TZNAME:CET
DTSTART:20241027T010000
END:STANDARD
BEGIN:DAYLIGHT
TZOFFSETFROM:+0100
TZOFFSETTO:+0200
TZNAME:CEST
DTSTART:20250330T010000
END:DAYLIGHT
BEGIN:STANDARD
TZOFFSETFROM:+0200
TZOFFSETTO:+0100
TZNAME:CET
DTSTART:20251026T010000
END:STANDARD
BEGIN:DAYLIGHT
TZOFFSETFROM:+0100
TZOFFSETTO:+0200
TZNAME:CEST
DTSTART:20260329T010000
END:DAYLIGHT
BEGIN:STANDARD
TZOFFSETFROM:+0200
TZOFFSETTO:+0100
TZNAME:CET
DTSTART:20261025T010000
END:STANDARD
END:VTIMEZONE
BEGIN:VEVENT
DTSTART;TZID=Europe/Amsterdam:20250725T150000
DTEND;TZID=Europe/Amsterdam:20250725T180000
DTSTAMP:20260421T175435
CREATED:20250603T081228Z
LAST-MODIFIED:20250618T160828Z
UID:18301-1753455600-1753466400@archive.workplacepride.org
SUMMARY:Celebrating Queer Asian Voices in the Workplace
DESCRIPTION:Workplace Pride is proud to collaborate with Asian Pride to spotlight the visibility\, representation\, and empowerment of the vibrant Queer Asian community in the Netherlands and across Europe. \n\n\n\nJoin us on 25 July for the Asian Pride Workplace Conference\, where we will explore how organisations can foster meaningful LGBTIQ+ inclusion—especially for those with Asian identities—through shared insights\, cultural stories\, and community connection. \n\n\n\n\n\n\n\n\nRegister Today!\n\n\n\n\n\n\n\n\nTime & Location\n\n\n\n25 jul 2025\, 15:00 – 18:00 CEST \n\n\n\nThe Social Hub Amsterdam City\, Wibautstraat 129\, 1091 KR Amsterdam\, Netherlands \n\n\n\nAbout the event\n\n\n\nOur goals are to: \n\n\n\n\nBring together practitioners and professionals who are passionate about LGBTIQ+ inclusion in the workplace.\n\n\n\nShare insights throughout our network especially at a time when LGBTIQ+ identities and fundamental rights are challenged.\n\n\n\nSpotlight Asian LGBTIQ+ experiences within a work setting to identify ongoing and upcoming challenges and working together to address them.\n\n\n\n\nEvent includes keynote\, panel discussions\, and networking session. \n\n\n\nMore details to follow\, stay tuned. \n\n\n\nFree entry\, donations are welcome! \n\n\n\n(For non-donation registration\, please type 0 in the price box.)
URL:https://archive.workplacepride.org/event/celebrating-queer-asian-voices-in-the-workplace/
ATTACH;FMTTYPE=image/jpeg:https://archive.workplacepride.org/wp-content/uploads/2025/06/1750232152988.jpeg
END:VEVENT
END:VCALENDAR