BEGIN:VCALENDAR
VERSION:2.0
PRODID:-//Workplace Pride - ECPv6.15.20//NONSGML v1.0//EN
CALSCALE:GREGORIAN
METHOD:PUBLISH
X-WR-CALNAME:Workplace Pride
X-ORIGINAL-URL:https://archive.workplacepride.org
X-WR-CALDESC:Events for Workplace Pride
REFRESH-INTERVAL;VALUE=DURATION:PT1H
X-Robots-Tag:noindex
X-PUBLISHED-TTL:PT1H
BEGIN:VTIMEZONE
TZID:Europe/Amsterdam
BEGIN:DAYLIGHT
TZOFFSETFROM:+0100
TZOFFSETTO:+0200
TZNAME:CEST
DTSTART:20240331T010000
END:DAYLIGHT
BEGIN:STANDARD
TZOFFSETFROM:+0200
TZOFFSETTO:+0100
TZNAME:CET
DTSTART:20241027T010000
END:STANDARD
BEGIN:DAYLIGHT
TZOFFSETFROM:+0100
TZOFFSETTO:+0200
TZNAME:CEST
DTSTART:20250330T010000
END:DAYLIGHT
BEGIN:STANDARD
TZOFFSETFROM:+0200
TZOFFSETTO:+0100
TZNAME:CET
DTSTART:20251026T010000
END:STANDARD
BEGIN:DAYLIGHT
TZOFFSETFROM:+0100
TZOFFSETTO:+0200
TZNAME:CEST
DTSTART:20260329T010000
END:DAYLIGHT
BEGIN:STANDARD
TZOFFSETFROM:+0200
TZOFFSETTO:+0100
TZNAME:CET
DTSTART:20261025T010000
END:STANDARD
END:VTIMEZONE
BEGIN:VEVENT
DTSTART;TZID=Europe/Amsterdam:20250726T100000
DTEND;TZID=Europe/Amsterdam:20250726T130000
DTSTAMP:20260421T175247
CREATED:20250603T115243Z
LAST-MODIFIED:20250724T054034Z
UID:18306-1753524000-1753534800@archive.workplacepride.org
SUMMARY:Pride March 2025
DESCRIPTION:Workplace Pride is excited to announce our participation in this year’s Pride March on 26 July. We invite all our members to join us as we march through Amsterdam\, celebrating diversity and inclusion. \n\n\n\nRegistration is now closed\, but you can always join us at the Amstelveld.  \n\n\n\nThe Foundation invites our members to a pre-march reception at our office\, followed by participation in the main walk. We will start the day with coffee\, tea\, and mimosas at our office before heading to Amstelveld.  \n\n\n\nEvent Details: \n\n\n\n\nDate: July 26\, 2025\n\n\n\nLocation: Workplace Pride Office\, Herengracht 575\, 1017 CD Amsterdam\n\n\n\nTime:\n\n10:00 AM – Pre March Reception\n\n\n\n11:00 AM – Head to Amstelveld\, the start of march\n\n\n\n12:00 PM – March to the Vondelpark!\n\n\n\n\n\n\nHouse Rules: \n\n\n\n\nLogos from your organisation are permitted; however\, marketing campaigns are not allowed!\n\n\n\nGive each other enough space!\n\n\n\nHave respect for each other!\n\n\n\nMake enough noise!\n\n\n\nShow yourself in all colours!
URL:https://archive.workplacepride.org/event/pride-march-2025/
ATTACH;FMTTYPE=image/jpeg:https://archive.workplacepride.org/wp-content/uploads/2024/07/20240731-PM-NF-News-Article-Main-1.jpg
END:VEVENT
END:VCALENDAR