BEGIN:VCALENDAR
VERSION:2.0
PRODID:-//Workplace Pride - ECPv6.15.20//NONSGML v1.0//EN
CALSCALE:GREGORIAN
METHOD:PUBLISH
X-ORIGINAL-URL:https://archive.workplacepride.org
X-WR-CALDESC:Events for Workplace Pride
REFRESH-INTERVAL;VALUE=DURATION:PT1H
X-Robots-Tag:noindex
X-PUBLISHED-TTL:PT1H
BEGIN:VTIMEZONE
TZID:Europe/Amsterdam
BEGIN:DAYLIGHT
TZOFFSETFROM:+0100
TZOFFSETTO:+0200
TZNAME:CEST
DTSTART:20240331T010000
END:DAYLIGHT
BEGIN:STANDARD
TZOFFSETFROM:+0200
TZOFFSETTO:+0100
TZNAME:CET
DTSTART:20241027T010000
END:STANDARD
BEGIN:DAYLIGHT
TZOFFSETFROM:+0100
TZOFFSETTO:+0200
TZNAME:CEST
DTSTART:20250330T010000
END:DAYLIGHT
BEGIN:STANDARD
TZOFFSETFROM:+0200
TZOFFSETTO:+0100
TZNAME:CET
DTSTART:20251026T010000
END:STANDARD
BEGIN:DAYLIGHT
TZOFFSETFROM:+0100
TZOFFSETTO:+0200
TZNAME:CEST
DTSTART:20260329T010000
END:DAYLIGHT
BEGIN:STANDARD
TZOFFSETFROM:+0200
TZOFFSETTO:+0100
TZNAME:CET
DTSTART:20261025T010000
END:STANDARD
END:VTIMEZONE
BEGIN:VEVENT
DTSTART;TZID=Europe/Amsterdam:20250801T160000
DTEND;TZID=Europe/Amsterdam:20250801T200000
DTSTAMP:20260421T202910
CREATED:20250603T121106Z
LAST-MODIFIED:20250728T075338Z
UID:18310-1754064000-1754078400@archive.workplacepride.org
SUMMARY:Stories from the Heart 2025
DESCRIPTION:Stories from the Heart – Hosted by De Nederlandsche Bank \n\n\n\nRegistration for this event is now closed.  \n\n\n\nWe are proud to announce that De Nederlandsche Bank will host this year’s edition of “Stories from the Heart”\, a special event co-organised by Workplace Pride\, the Netherlands Ministry of Foreign Affairs\, and the RVO. \n\n\n\nTaking place on Friday\, August 1st\, 2025 at Frederiksplein 61 in Amsterdam\, this inspiring gathering will bring together LGBTIQ+ activists from around the world—participants in the RVO’s Building Bridges program—alongside Workplace Pride members. These courageous individuals will share powerful\, real-life stories from their regions\, offering insight and connection for members whose organisations operate globally. \n\n\n\nEvent Details: \n\n\n\nDate: August 01\, 2025 \n\n\n\nLocation: De Nederlandsche Bank Frederiksplein 61\, 1017 XL Amsterdam \n\n\n\nTime: \n\n\n\n15:00  – Welcome to view the Pride Dress or take a Vault Tour \n\n\n\n16:00  – Registration Opens \n\n\n\n16:30  – Stories from the Heart \n\n\n\n18:10  – Networking Reception \n\n\n\n20:00  – Reception Ends
URL:https://archive.workplacepride.org/event/stories-from-the-heart-2025/
ATTACH;FMTTYPE=image/jpeg:https://archive.workplacepride.org/wp-content/uploads/2023/07/202300706-WP-Eventbrite-SFTH.jpg
END:VEVENT
END:VCALENDAR