BEGIN:VCALENDAR
VERSION:2.0
PRODID:-//Workplace Pride - ECPv6.15.20//NONSGML v1.0//EN
CALSCALE:GREGORIAN
METHOD:PUBLISH
X-WR-CALNAME:Workplace Pride
X-ORIGINAL-URL:https://archive.workplacepride.org
X-WR-CALDESC:Events for Workplace Pride
REFRESH-INTERVAL;VALUE=DURATION:PT1H
X-Robots-Tag:noindex
X-PUBLISHED-TTL:PT1H
BEGIN:VTIMEZONE
TZID:Europe/Amsterdam
BEGIN:DAYLIGHT
TZOFFSETFROM:+0100
TZOFFSETTO:+0200
TZNAME:CEST
DTSTART:20240331T010000
END:DAYLIGHT
BEGIN:STANDARD
TZOFFSETFROM:+0200
TZOFFSETTO:+0100
TZNAME:CET
DTSTART:20241027T010000
END:STANDARD
BEGIN:DAYLIGHT
TZOFFSETFROM:+0100
TZOFFSETTO:+0200
TZNAME:CEST
DTSTART:20250330T010000
END:DAYLIGHT
BEGIN:STANDARD
TZOFFSETFROM:+0200
TZOFFSETTO:+0100
TZNAME:CET
DTSTART:20251026T010000
END:STANDARD
BEGIN:DAYLIGHT
TZOFFSETFROM:+0100
TZOFFSETTO:+0200
TZNAME:CEST
DTSTART:20260329T010000
END:DAYLIGHT
BEGIN:STANDARD
TZOFFSETFROM:+0200
TZOFFSETTO:+0100
TZNAME:CET
DTSTART:20261025T010000
END:STANDARD
END:VTIMEZONE
BEGIN:VEVENT
DTSTART;TZID=Europe/Amsterdam:20251015T000000
DTEND;TZID=Europe/Amsterdam:20251017T235959
DTSTAMP:20260421T135747
CREATED:20250807T084513Z
LAST-MODIFIED:20250807T084727Z
UID:18693-1760486400-1760745599@archive.workplacepride.org
SUMMARY:Executive Course on LGBTQ+ Rights Law 
DESCRIPTION:We would like to invite you or your colleagues to participate in the Executive Course on LGBTQ+ Rights Law\, taking place 15–17 October 2025 at the Erasmus University in Rotterdam. \n\n\n\nThis three-day course provides professionals with a solid legal foundation on LGBTQ+ rights and is particularly relevant for those working on or interested in diversity\, equity\, and inclusion (DEI) issues\, anti-discrimination policy\, and/or HR and compliance frameworks. \n\n\n\nKey topics include: \n\n\n\n\nInternational human rights and LGBTQ+ law (Netherlands\, EU\, UN)\n\n\n\nThe influence of AI and digitalisation on LGBTQ+ rights (biases\, privacy issues\, ethical standards)\n\n\n\nWorkplace rights\, economic inequality and inclusive employment policies regarding LGBTQ+ persons\n\n\n\n\nWhy attend? \n\n\n\n\nLearn from leading legal scholars in this field and DEI experts\n\n\n\nEnhance your organisation’s approach to inclusive policy and compliance\n\n\n\nNetwork with peers across public\, private and academic sectors\n\n\n\n\nDetails: \n\n\n\n\nLocation: Erasmus University Rotterdam (location Erasmus University College\, near Blaak Station)\n\n\n\nOfficial Certificate granted upon completion\n\n\n\nFee: €450 for three full days (including materials)\n\n\n\n\nRegister through the link or learn more by contacting:  \n\n\n\nDr. Masuma Shahid – shahid@law.eur.nl
URL:https://archive.workplacepride.org/event/executive-course-on-lgbtq-rights-law/
ATTACH;FMTTYPE=image/jpeg:https://archive.workplacepride.org/wp-content/uploads/2025/08/2.jpg
END:VEVENT
END:VCALENDAR