BEGIN:VCALENDAR
VERSION:2.0
PRODID:-//Workplace Pride - ECPv6.15.20//NONSGML v1.0//EN
CALSCALE:GREGORIAN
METHOD:PUBLISH
X-WR-CALNAME:Workplace Pride
X-ORIGINAL-URL:https://archive.workplacepride.org
X-WR-CALDESC:Events for Workplace Pride
REFRESH-INTERVAL;VALUE=DURATION:PT1H
X-Robots-Tag:noindex
X-PUBLISHED-TTL:PT1H
BEGIN:VTIMEZONE
TZID:Europe/Amsterdam
BEGIN:DAYLIGHT
TZOFFSETFROM:+0100
TZOFFSETTO:+0200
TZNAME:CEST
DTSTART:20240331T010000
END:DAYLIGHT
BEGIN:STANDARD
TZOFFSETFROM:+0200
TZOFFSETTO:+0100
TZNAME:CET
DTSTART:20241027T010000
END:STANDARD
BEGIN:DAYLIGHT
TZOFFSETFROM:+0100
TZOFFSETTO:+0200
TZNAME:CEST
DTSTART:20250330T010000
END:DAYLIGHT
BEGIN:STANDARD
TZOFFSETFROM:+0200
TZOFFSETTO:+0100
TZNAME:CET
DTSTART:20251026T010000
END:STANDARD
BEGIN:DAYLIGHT
TZOFFSETFROM:+0100
TZOFFSETTO:+0200
TZNAME:CEST
DTSTART:20260329T010000
END:DAYLIGHT
BEGIN:STANDARD
TZOFFSETFROM:+0200
TZOFFSETTO:+0100
TZNAME:CET
DTSTART:20261025T010000
END:STANDARD
END:VTIMEZONE
BEGIN:VEVENT
DTSTART;TZID=Europe/Amsterdam:20251113T100000
DTEND;TZID=Europe/Amsterdam:20251113T200000
DTSTAMP:20260421T111938
CREATED:20250828T144022Z
LAST-MODIFIED:20251203T162415Z
UID:18722-1763028000-1763064000@archive.workplacepride.org
SUMMARY:Symposium on LGBTIQ+ Workplace Inclusion
DESCRIPTION:DetailsProgramLive Stream RecordingSymposium Slides\n\nHosted in collaboration with Workplace Pride\, this symposium brings together scholars\, practitioners\, and organizational leaders to explore the latest insights and practices in LGBTIQ+ workplace inclusion. The event combines academic presentations\, practitioner perspectives\, and opportunities for exchange and collaboration. \n\n\n\n\n\n\n\nUnlock the power of inclusivity at this year’s LGBTIQ+ Workplace Inclusion Symposium\, featuring keynote presentations by Prof.dr. Luke Fletcher (Manchester Metropolitan University\, UK) and Prof.dr. Jojanneke van der Toorn (Leiden University\, NL) delving into the latest cutting-edge research on LGBTIQ+ inclusion. \n\n\n\nLocation: Telders Auditorium \n\n\n\nAddress: Rapenburg 73\, Leiden \n\n\n\nDate: November 13th\, 2025 \n\n\n\nWalk-in: 10:00 – 10:30 \n\n\n\nSymposium: 10:30 – 12:00 \n\n\n\nIn addition to the keynotes\, a panel including researchers and D&I professionals from the public and private sector will reflect on the research findings and recommendations\, and share concrete examples of how organizations can build inclusive environments. Connect with fellow attendees over coffee and tea\, fostering meaningful relationships with like-minded individuals committed to driving positive change in their respective organizations. Join us in this critical dialogue to make a difference and foster a workplace where everyone can belong and bring their authentic selves. \n\n\n\nRegistrationThe event is in-person but will be streamed and recorded for those not able to attend. \n\n\n\nOrganizersThis event is organised by Jojanneke van der Toorn in collaboration with Academia@WorkplacePride.  \n\n\n\nWe can be contacted at lgbtqi.inclusion@gmail.com \n\n\n\nAccessibilityWe would like the symposium to be accessible to everyone. We hope the absence of a participation fee and the possibility to view a live stream contribute to this. Please note that the symposium location is wheelchair accessible. We will make sure to ask the speakers to articulate clearly. We very much welcome your suggestions for how we can be more inclusive. \n\n\n\n\n\nProgram Schedule \n\n\n\nLocation | Academy Building\, Leiden University \n\n\n\n10:00 – 10:30 | Registration & Welcome CoffeeParticipants arrive\, register\, and connect over coffee/tea. \n\n\n\n10:30 – 12:00 | Symposium \n\n\n\n\nKeynote Address – Dr. Fletcher\n\n\n\nAcademic Talk – Organising Committee (Leiden & Utrecht University)\n\n\n\nPanel Discussion with Diversity & Inclusion professionals and ERG representatives(The symposium will be held in person and streamed live\, with a recording available afterwards.)\n\n\n\n\n12:00 – 12:30 | Networking CoffeeAn opportunity for informal conversation with attendees. \n\n\n\n12:30 – 14:00 | Lunch in Small CompositionGathering with keynote speakers\, panel members\, organizers\, Workplace Pride representatives\, and doctoral researchers. \n\n\n\n14:00 – 17:00 | Small-Group Research MeetingInteractive exchange between keynote speaker\, PhD students\, and supervisors: \n\n\n\n\nDoctoral project presentations and feedback\n\n\n\nBrainstorming on future research and collaboration\n\n\n\nShort walk in the Leiden University Botanical Gardens (weather permitting)\n\n\n\n\n17:00 – 20:00 | Closing Drinks & DinnerConcluding the day with networking\, reflection\, and community building. \n\n\n\n\n\n\n\n\n\n\n\n\n\nYou can download the Symposium Slides here! \n\n\n\n\nDownload Presentation
URL:https://archive.workplacepride.org/event/symposium-on-lgbtiq-workplace-inclusion/
ATTACH;FMTTYPE=image/jpeg:https://archive.workplacepride.org/wp-content/uploads/2025/08/2025-WP-LS-MC-HeaderBanner-scaled.jpg
END:VEVENT
END:VCALENDAR