BEGIN:VCALENDAR
VERSION:2.0
PRODID:-//Workplace Pride - ECPv6.15.20//NONSGML v1.0//EN
CALSCALE:GREGORIAN
METHOD:PUBLISH
X-WR-CALNAME:Workplace Pride
X-ORIGINAL-URL:https://archive.workplacepride.org
X-WR-CALDESC:Events for Workplace Pride
REFRESH-INTERVAL;VALUE=DURATION:PT1H
X-Robots-Tag:noindex
X-PUBLISHED-TTL:PT1H
BEGIN:VTIMEZONE
TZID:Europe/Amsterdam
BEGIN:DAYLIGHT
TZOFFSETFROM:+0100
TZOFFSETTO:+0200
TZNAME:CEST
DTSTART:20190331T010000
END:DAYLIGHT
BEGIN:STANDARD
TZOFFSETFROM:+0200
TZOFFSETTO:+0100
TZNAME:CET
DTSTART:20191027T010000
END:STANDARD
BEGIN:DAYLIGHT
TZOFFSETFROM:+0100
TZOFFSETTO:+0200
TZNAME:CEST
DTSTART:20200329T010000
END:DAYLIGHT
BEGIN:STANDARD
TZOFFSETFROM:+0200
TZOFFSETTO:+0100
TZNAME:CET
DTSTART:20201025T010000
END:STANDARD
BEGIN:DAYLIGHT
TZOFFSETFROM:+0100
TZOFFSETTO:+0200
TZNAME:CEST
DTSTART:20210328T010000
END:DAYLIGHT
BEGIN:STANDARD
TZOFFSETFROM:+0200
TZOFFSETTO:+0100
TZNAME:CET
DTSTART:20211031T010000
END:STANDARD
END:VTIMEZONE
BEGIN:VEVENT
DTSTART;TZID=Europe/Amsterdam:20201113T143000
DTEND;TZID=Europe/Amsterdam:20201113T170000
DTSTAMP:20260425T205558
CREATED:20200406T092011Z
LAST-MODIFIED:20201110T093611Z
UID:6856-1605277800-1605286800@archive.workplacepride.org
SUMMARY:There is Always a Rainbow in the Cloud hosted by Tech@WorkplacePride
DESCRIPTION:Every year\, the Tech@WorkplacePride programme organises an event from a different city in the Netherlands. After Delft\, Eindhoven and Enschede it is now Groningen’s turn to organise this Tech@WorkplacePride event. \n\n\n\nThe guiding theme of the 2020 Groningen edition is Data Ethics\, which refers to a code or behaviour and adherence to the principles and values on which human rights and personal data protection laws are based. It is about honest and genuine transparency in data management. Data ethics is a step further than mere compliance with personal data protection laws like GDPR. \n\n\n\nData ethics includes (but is not limited to) the following 3 pillars:  \n\n\n\nData processing: collecting\, generating\, recording\, curating\, processing\, sharing and using of data\, as well as the detection and removal of bias;Algorithms: AI\, machine learning\, transparency\, explainability\, artificial agents and bots; Similar practices: responsible innovation\, programming\, hacking and professional codes.\n\n\n\nTo keep track of good use of data we need a resilient democracy with well-functioning legislation and laws to prevent public and private organisations from collecting data against specific groups of people. More and more examples are emerging where data is being misused.  \n\n\n\nAs we also see in the recent COVID-19 pandemic there are organisations around the world using such data in order to reduce the impact of its spread\, at the cost of people’s privacy.  \n\n\n\nHow should resilient democracies such as ours respond and ensure that such data are not used against the LGBTI community? Which ethical and moral choices do we have to make? Must the importance of privacy balance against the general interest of public health and the economy? \n\n\n\nEvent:           Tech@WorkplacePride Goningen editionDate/Time:  Friday\, November 13\, 2020: 14:30 – 17:00 (CET)Audience:    Workplace Pride Members\, stakeholders\, and friendsLocation:      Due to the Covid-19 regulations it will be broadcasted from the Workplace Pride office in AmsterdamHost:               IBM Client Innovation Centre Benelux \n\n\n\nModerator:  Danny Belitz – Data Scientist\, Cognitive & Analytics PracticeLead CIC Benelux\, EAGLE BNL\, Co-Lead Diversity & Inclusion Ambassador IBM in Groningen \n\n\n\nEvent details: \n\n\n\nPeter Zijlema – General Manager IBM Benelux / Algemeen Directeur IBM NederlandLeofwin Visman – Managing Director IBM Client Innovation Center Benelux IBMHelena van de Bovenkamp – Data Privacy Officer Saxion University of Applied SciencesDylan Beckbridge – Data Privacy Specialist Clifford Chance LLPDr. Willeke Slingerland – LLM Professor (Applied Research) Resilient Democracy Saxion UASAmon Versteeg – Marketing Director Suppliers & Industry at Booking.com\n\n\n\n\n\n\n\n\n\n\n\n\n\n\n\n\n\n\n\nPROGRAM\n\n\n[wpdm_package id=’8491′] \n\n\n\nHow to connect:  \n\n\n\nPlease use Google Chrome or Firefox.Microsoft Edge is not supported.Link: Workplace Pride Live Webinar  Select Webinar Tech@WorkplacePrideI look forward to seeing you on the 13th of November online!
URL:https://archive.workplacepride.org/event/techworkplacepride-event-hosted-by-ibm-groningen/
CATEGORIES:General Events,Webinar
END:VEVENT
BEGIN:VEVENT
DTSTART;TZID=Europe/Amsterdam:20201123T120000
DTEND;TZID=Europe/Amsterdam:20201123T130000
DTSTAMP:20260425T205558
CREATED:20201104T091612Z
LAST-MODIFIED:20201118T101018Z
UID:8527-1606132800-1606136400@archive.workplacepride.org
SUMMARY:Academia@WorkplacePride Webinar
DESCRIPTION:We are pleased to invite you to the Academia@WorkplacePride live webinar in our “Keeping Members Connected” series on Monday November 23rdat noon CEST. \n\n\n\nThe topic of academia and the inherent challenges for LGBTI persons studying or working within its many layers\, is an area sorely in need of attention and discussion. After the inaugural webinar on the 24thof August 2020\, Academia@WorkplacePride wants to make further progress and look more deeply into substantive topics. \n\n\n\n“Queering the Curriculum” \n\n\n\nIn this webinar we will focus on the educational aspects of academia and it particular the curriculum. Is there am LGBTI lens on the curriculum? If so what are the implications and is this as relevant in the STEM disciplines  as it is in the humanities and the social sciences. \n\n\n\nSpeakers from the universities of Amsterdam and Leiden will discuss how they can be more inclusive on the basis of the following questions: \n\n\n\nWhat does it mean to ‘queer’ a curriculum?What is heteronormative in your discipline?How do different faculties incorporate queer concepts?Is the curriculum queered in the Netherlands just like as in other countries or are their national differences? \n\n\n\nAs always with our webinars there’ll be a live Q&A section from the viewers which always deepens the panel format.This webinar is for members as well as the general public\, freely accessible for all after registration. We hope you all can attend! \n\n\n\nEvent details: \n\n\n\nEvent:                      Academia@WorkplacePride: “Queering the Curriculum”               Date/Time:             Monday\, November 23\, 2020: 12.00 – 13:00 CESTModerator:             Dr.(mult.)Andrew DJ Shield( Assistant Professor of                                      Migration History\, Leiden University\, Humanities)Guest Speakers:  \n\n\n\nProf.dr. Martine de Vries (Professor in Medical Ethics and Health Law at Leiden University Medical Center)Dr. Marie-Louise Janssen (Lecturer in Gender and Sexuality studies at the University of Amsterdam)Looi van Kessel (University Lecturer at Leiden University Centre for Arts in Society)\n\n\n\nAudience:      Workplace Pride Members\, stakeholders\, and friendsHow to connect:  \n\n\n\nPlease use Google Chrome or Firefox.Microsoft Edge isn’t supported.Link: Workplace Pride Live WebinarSelect Webinar: Academia@WorkplacePride “Queering the Curriculum”I look forward to seeing you on the 23rdof November!
URL:https://archive.workplacepride.org/event/academiaworkplacepride-webinar/
CATEGORIES:General Events,Webinar
END:VEVENT
BEGIN:VEVENT
DTSTART;TZID=Europe/Amsterdam:20201126T160000
DTEND;TZID=Europe/Amsterdam:20201126T173000
DTSTAMP:20260425T205558
CREATED:20201104T090935Z
LAST-MODIFIED:20201124T114415Z
UID:8525-1606406400-1606411800@archive.workplacepride.org
SUMMARY:Workplace Pride 2020 Annual Members Meeting
DESCRIPTION:This has been a tumultuous year for all of us: from dealing with the global pandemic to unprecedented changes to the social interaction in society. Of course this has also had a big impact for the LGBTI community and for Workplace Pride.  \n\n\n\nTo review how this year has affected the Foundation and to get a glimpse of how we will be approaching 2021\, we are pleased to invite you to our 2020 Annual Members Meeting. This is the moment in the year that our members can share their own thoughts and ideas about where LGBTI workplace inclusion is headed and help us to formulate the path ahead.  \n\n\n\nThe Annual Members Meeting is open only to Workplace Pride members. It will be held on Thursday\, November 26th from 16:00 until 17:30 Central European time and can be accessed by the Zoom link below. There will be the opportunity for Q&A.  \n\n\n\nAn invitation will be sent to Member’s shortly with the Zoom link for the event.
URL:https://archive.workplacepride.org/event/workplace-pride-annual-meeting/
END:VEVENT
END:VCALENDAR