BEGIN:VCALENDAR
VERSION:2.0
PRODID:-//Workplace Pride - ECPv6.15.20//NONSGML v1.0//EN
CALSCALE:GREGORIAN
METHOD:PUBLISH
X-ORIGINAL-URL:https://archive.workplacepride.org
X-WR-CALDESC:Events for Workplace Pride
REFRESH-INTERVAL;VALUE=DURATION:PT1H
X-Robots-Tag:noindex
X-PUBLISHED-TTL:PT1H
BEGIN:VTIMEZONE
TZID:Europe/Amsterdam
BEGIN:DAYLIGHT
TZOFFSETFROM:+0100
TZOFFSETTO:+0200
TZNAME:CEST
DTSTART:20200329T010000
END:DAYLIGHT
BEGIN:STANDARD
TZOFFSETFROM:+0200
TZOFFSETTO:+0100
TZNAME:CET
DTSTART:20201025T010000
END:STANDARD
BEGIN:DAYLIGHT
TZOFFSETFROM:+0100
TZOFFSETTO:+0200
TZNAME:CEST
DTSTART:20210328T010000
END:DAYLIGHT
BEGIN:STANDARD
TZOFFSETFROM:+0200
TZOFFSETTO:+0100
TZNAME:CET
DTSTART:20211031T010000
END:STANDARD
BEGIN:DAYLIGHT
TZOFFSETFROM:+0100
TZOFFSETTO:+0200
TZNAME:CEST
DTSTART:20220327T010000
END:DAYLIGHT
BEGIN:STANDARD
TZOFFSETFROM:+0200
TZOFFSETTO:+0100
TZNAME:CET
DTSTART:20221030T010000
END:STANDARD
END:VTIMEZONE
BEGIN:VEVENT
DTSTART;TZID=Europe/Amsterdam:20210210T130000
DTEND;TZID=Europe/Amsterdam:20210210T140000
DTSTAMP:20260425T153427
CREATED:20200909T131739Z
LAST-MODIFIED:20210203T103106Z
UID:8060-1612962000-1612965600@archive.workplacepride.org
SUMMARY:Rainbow Families Webinar
DESCRIPTION:Our aim is to introduce Workplace Pride’s international member base and friends to the existence of “Rainbow families”. Shedding light and ideas about how rainbow families are constructed. The speakers will discuss the inherent issues and complexities\, as well as how these could affect employment (and conditions).  \n\n\n\nWe hope to inspire Workplace Pride’s members and their HR departments to acknowledge this important subject. Exploring the need to deeply consider how to best support employees that form part of a rainbow family in their workplace. \n\n\n\nOur speakers : \n\n\n\nKarin Geerts works for ING\, and is a mother together with her wife. \n\n\n\nSara Coster has been involved with Meer Dan Gewenst for well over a decade. Sara co-parents her two sons together with a male couple. \n\n\n\nBianca Busser is an HR professional at HEMA\, which has taken progressive steps to be inclusive to all rainbow families\, focusing on the practical relationship between parents and children rather than the legal rights between parents and children. \n\n\n\nModerator : Jelle Martens co-parents his 7 and 9 year old with his husband and a female couple. He was previously involved with Meer Dan Gewenst\, but now is a board member of Workplace Pride.\n\n\n\nThe webinar starts promptly at 13:00 CET on the 10th of February \n\n\n\nPlease note that most commonly used browsers should be compatible but viewing via a VPN or Company network may present problems. \n\n\n\nRegistration is required\, please register HERE!
URL:https://archive.workplacepride.org/event/rainbow-families-webinar/
END:VEVENT
END:VCALENDAR