BEGIN:VCALENDAR
VERSION:2.0
PRODID:-//Workplace Pride - ECPv6.15.20//NONSGML v1.0//EN
CALSCALE:GREGORIAN
METHOD:PUBLISH
X-ORIGINAL-URL:https://archive.workplacepride.org
X-WR-CALDESC:Events for Workplace Pride
REFRESH-INTERVAL;VALUE=DURATION:PT1H
X-Robots-Tag:noindex
X-PUBLISHED-TTL:PT1H
BEGIN:VTIMEZONE
TZID:Europe/Amsterdam
BEGIN:DAYLIGHT
TZOFFSETFROM:+0100
TZOFFSETTO:+0200
TZNAME:CEST
DTSTART:20200329T010000
END:DAYLIGHT
BEGIN:STANDARD
TZOFFSETFROM:+0200
TZOFFSETTO:+0100
TZNAME:CET
DTSTART:20201025T010000
END:STANDARD
BEGIN:DAYLIGHT
TZOFFSETFROM:+0100
TZOFFSETTO:+0200
TZNAME:CEST
DTSTART:20210328T010000
END:DAYLIGHT
BEGIN:STANDARD
TZOFFSETFROM:+0200
TZOFFSETTO:+0100
TZNAME:CET
DTSTART:20211031T010000
END:STANDARD
BEGIN:DAYLIGHT
TZOFFSETFROM:+0100
TZOFFSETTO:+0200
TZNAME:CEST
DTSTART:20220327T010000
END:DAYLIGHT
BEGIN:STANDARD
TZOFFSETFROM:+0200
TZOFFSETTO:+0100
TZNAME:CET
DTSTART:20221030T010000
END:STANDARD
END:VTIMEZONE
BEGIN:VEVENT
DTSTART;TZID=Europe/Amsterdam:20211108T000000
DTEND;TZID=Europe/Amsterdam:20211108T235959
DTSTAMP:20260425T051505
CREATED:20211020T102353Z
LAST-MODIFIED:20211020T102355Z
UID:10218-1636329600-1636415999@archive.workplacepride.org
SUMMARY:Intersex Day of Solidarity
DESCRIPTION:November 8: Intersex Day of Solidarity (IDS)\, or Intersex Day of Remembrance\, marks the birthday of Herculine Barbin\, a now-famous French intersex person. \n\n\n\nIntersex Day of Solidarity\, also known as Intersex Day of Remembrance\, takes place on November 8. The Day marks the birthday of Herculine Barbin\, a French intersex person whose memoirs were later published by the philosopher Michel Foucault\, along with contemporary texts and a later fictionalized account. \n\n\n\nIn Starry\, Starry Night\, the short life of Herculine Barbin\, Leslie Jaye writes that what little we know of Herculine Barbin has all but obscured the person known variously as Herculine\, Alexina\, and Abel\, during her short life. \n\n\n\nThe event appears to have first been held on 8 November 2005\, as Intersex Solidarity Day. Joëlle-Circé Laramée\, the then Canadian Spokeswoman for Organisation Intersex International\, issued a call for all persons interested in intersex human rights to commemorate the day.
URL:https://archive.workplacepride.org/event/intersex-day-of-solidarity/
END:VEVENT
BEGIN:VEVENT
DTSTART;TZID=Europe/Amsterdam:20211118T130000
DTEND;TZID=Europe/Amsterdam:20211118T173000
DTSTAMP:20260425T051506
CREATED:20210331T102658Z
LAST-MODIFIED:20211117T124042Z
UID:9280-1637240400-1637256600@archive.workplacepride.org
SUMMARY:Differ(ent) kinds of energy hosted by Tech@Workplacepride *ONLINE ONLY*
DESCRIPTION:REGISTER HERE FOR ONLINE \n\n\n\n\n\n\n\n\n“Differ(ent) kinds of energy”  \n\n\n\nUnfortunately due to the Dutch government’s new COVID restrictions and circumstances beyond our control\, we are sadly unable to have a physical event. However\, there still will be an opportunity to attend the event virtually via a Zoom link. \n\n\n\nClick here for online registration/participation on Thursday\, 18th of November via Zoom. \n\n\n\nEvery year\, the Tech@WorkplacePride programme organises an event from a different city in the Netherlands. This year’s Tech@WPP -online- event will streamed from Brainport Eindhoven\, on the campus of the Eindhoven University of Technology.  \n\n\n\nThe guiding theme of this 2021 edition is sustainability and energy transition\, and the importance of diversity for this mission. We will have talks by leading scientists and industry staff about developments on sustainability and energy\, suited for a lay audience\, mixed with stories/reflections on diversity. There will be both LGBTIQ+ and non-LGBTIQ+ speakers. \n\n\n\nTo ensure a sustainable energy transition in the coming years\, it is necessary for organisations to be more innovative\, build better strategies\, and make courageous choices. Having employees representing diverse communities helps to better understand the environmental impact of the company’s operations\, building more trust among the public\, increasing cultural intelligence\, and developing better strategies. Diverse companies are more innovative and more likely to outperform homogenous teams. \n\n\n\nThis Tech@WorkplacePride event works on the basis of three important objectives: \n\n\n\nAwareness on the importance of diversity for the upcoming energy transition and research.Increase knowledge of developments in sustainability and energy.Build and expand your network and connections of role models and workplace inclusion and diversity ambassadors across different companies and take back concrete actionable ideas and examples to implement in your own organisation.\n\n\n\nThe Dutch Research Council (NWO)\, a major funder of scientific research in the Netherlands\, and its institute DIFFER that conducts leading fundamental research in the fields of fusion energy and solar fuels\, together with Workplace Pride the proud organisers and hosts of this year’s event. \n\n\n\n\nFULL PROGRAM Click Here
URL:https://archive.workplacepride.org/event/different-kinds-of-energy-hosted-by-techworkplacepride/
LOCATION:Dutch Institute for Fundamental Energy Research (DIFFER)\, 20 De Zaale\, Eindhoven\, 5612 AJ\, Netherlands
END:VEVENT
END:VCALENDAR