BEGIN:VCALENDAR
VERSION:2.0
PRODID:-//Workplace Pride - ECPv6.15.20//NONSGML v1.0//EN
CALSCALE:GREGORIAN
METHOD:PUBLISH
X-ORIGINAL-URL:https://archive.workplacepride.org
X-WR-CALDESC:Events for Workplace Pride
REFRESH-INTERVAL;VALUE=DURATION:PT1H
X-Robots-Tag:noindex
X-PUBLISHED-TTL:PT1H
BEGIN:VTIMEZONE
TZID:Europe/Amsterdam
BEGIN:DAYLIGHT
TZOFFSETFROM:+0100
TZOFFSETTO:+0200
TZNAME:CEST
DTSTART:20210328T010000
END:DAYLIGHT
BEGIN:STANDARD
TZOFFSETFROM:+0200
TZOFFSETTO:+0100
TZNAME:CET
DTSTART:20211031T010000
END:STANDARD
BEGIN:DAYLIGHT
TZOFFSETFROM:+0100
TZOFFSETTO:+0200
TZNAME:CEST
DTSTART:20220327T010000
END:DAYLIGHT
BEGIN:STANDARD
TZOFFSETFROM:+0200
TZOFFSETTO:+0100
TZNAME:CET
DTSTART:20221030T010000
END:STANDARD
BEGIN:DAYLIGHT
TZOFFSETFROM:+0100
TZOFFSETTO:+0200
TZNAME:CEST
DTSTART:20230326T010000
END:DAYLIGHT
BEGIN:STANDARD
TZOFFSETFROM:+0200
TZOFFSETTO:+0100
TZNAME:CET
DTSTART:20231029T010000
END:STANDARD
END:VTIMEZONE
BEGIN:VEVENT
DTSTART;TZID=Europe/Amsterdam:20220707T000000
DTEND;TZID=Europe/Amsterdam:20220707T235959
DTSTAMP:20260425T194039
CREATED:20220608T090831Z
LAST-MODIFIED:20220608T090834Z
UID:10996-1657152000-1657238399@archive.workplacepride.org
SUMMARY:PRIDE DAY GERMANY
DESCRIPTION:
URL:https://archive.workplacepride.org/event/pride-day-germany/
END:VEVENT
BEGIN:VEVENT
DTSTART;TZID=Europe/Amsterdam:20220720T000000
DTEND;TZID=Europe/Amsterdam:20220720T235959
DTSTAMP:20260425T194039
CREATED:20220719T113631Z
LAST-MODIFIED:20220719T113636Z
UID:11181-1658275200-1658361599@archive.workplacepride.org
SUMMARY:ROZE WOENSDAG
DESCRIPTION:Stichting Roze Woensdag heeft als doel om gedurende het hele jaar zichtbaarheid te creëren voor de LHBTIQ+ gemeenschap in Nijmegen en omstreken. Met als hoogtepunt de viering van Roze Woensdag tijdens de Vierdaagse(feesten). \n\n\n\nHelp jij mee met het creëren van zichtbaarheid voor de LHBTI+ gemeenschap? Hang dan op Roze Woensdag 2022 (woensdag 20 juli) vol trots je regenboogvlag op\, versier je balkon met roze ballonnen of loop die dag met je favoriete roze t-shirt of regenboogsokken door de stad. \n\n\n\nBen jij benieuwd waar je op Roze Woensdag 2022 moet zijn? Check hier het programma. 
URL:https://archive.workplacepride.org/event/roze-woensdag/
END:VEVENT
BEGIN:VEVENT
DTSTART;TZID=Europe/Amsterdam:20220730T000000
DTEND;TZID=Europe/Amsterdam:20220807T235959
DTSTAMP:20260425T194039
CREATED:20211208T112010Z
LAST-MODIFIED:20220705T102217Z
UID:10507-1659139200-1659916799@archive.workplacepride.org
SUMMARY:Amsterdam Pride 2022
DESCRIPTION:“MY GENDER\, MY PRIDE”\n\n\n\nEveryone should feel free to be themselves\, without an imposed norm from outside. Unfortunately\, the reality is different\, and our emancipation is often far from complete. In the Netherlands\, too\, people are still discriminated against and beaten up every day because of who they are or who they love. In recent decades\, our struggle has mainly been about ‘being allowed to love who we want and it is time to broaden the focus to ‘be allowed to be how we feel’. In other words\, time to pay attention to the diversity of gender identities and our right to self-determination. We have the right to deviate from the norm and the sex we were given at birth. Gender identity is central during Pride Amsterdam from July 30 to August 7\, 2022\, with the theme ‘My Gender\, My Pride’. \n\n\n\nFor more information about this year’s Amsterdam Pride 2022\, click here
URL:https://archive.workplacepride.org/event/amsterdam-pride-2022/
END:VEVENT
BEGIN:VEVENT
DTSTART;TZID=Europe/Amsterdam:20220730T230000
DTEND;TZID=Europe/Amsterdam:20220731T160000
DTSTAMP:20260425T194039
CREATED:20210807T100000Z
LAST-MODIFIED:20220719T120033Z
UID:10504-1659222000-1659283200@archive.workplacepride.org
SUMMARY:PRIDE WALK
DESCRIPTION:The annual Pride Walk returns on Saturday\, July 30th\, 2022 at Dam square! When 30 Jul. Time 11:00 – 13:00. \n\n\n\nThe Pride Walk returns on Saturday\, July 30th\, 2022. With the Pride Walk\, we want to draw attention to the situation of LGBTIs in countries where homosexuality is included in the penal code\, by carrying the flags of those countries. \n\n\n\nProgram:11:00 – 12:00 Demonstration Dam square12:00 – 13:00 Pride Walk \n\n\n\nRoute:TBA. \n\n\n\nHouse rules:– Give each other enough space!– Have respect for each other!– Make enough noise!– Show yourself in all colours! \n\n\n\nDe jaarlijkse demonstratie voor gelijke rechten voor de wereldwijde regenboogcommunity. We zullen weer gaan lopen dit jaar op zaterdag 30 juli 2022 om 12.00 uur. Start: De Dam. \n\n\n\nRoute: Volgt…. \n\n\n\nHuisregels:– Geef elkaar voldoende ruimte!– Heb respect voor elkaar!– Laat je horen!– Laat je in alle kleuren zien! \n\n\n\n \n\n\n\nFor more info click here
URL:https://archive.workplacepride.org/event/pride-walk-2022-08-06/
LOCATION:Rai\, Europaplein 24\, Amsterdam\, 1078 GZ\, Netherlands
END:VEVENT
END:VCALENDAR