BEGIN:VCALENDAR
VERSION:2.0
PRODID:-//Workplace Pride - ECPv6.15.20//NONSGML v1.0//EN
CALSCALE:GREGORIAN
METHOD:PUBLISH
X-WR-CALNAME:Workplace Pride
X-ORIGINAL-URL:https://archive.workplacepride.org
X-WR-CALDESC:Events for Workplace Pride
REFRESH-INTERVAL;VALUE=DURATION:PT1H
X-Robots-Tag:noindex
X-PUBLISHED-TTL:PT1H
BEGIN:VTIMEZONE
TZID:Europe/Amsterdam
BEGIN:DAYLIGHT
TZOFFSETFROM:+0100
TZOFFSETTO:+0200
TZNAME:CEST
DTSTART:20220327T010000
END:DAYLIGHT
BEGIN:STANDARD
TZOFFSETFROM:+0200
TZOFFSETTO:+0100
TZNAME:CET
DTSTART:20221030T010000
END:STANDARD
BEGIN:DAYLIGHT
TZOFFSETFROM:+0100
TZOFFSETTO:+0200
TZNAME:CEST
DTSTART:20230326T010000
END:DAYLIGHT
BEGIN:STANDARD
TZOFFSETFROM:+0200
TZOFFSETTO:+0100
TZNAME:CET
DTSTART:20231029T010000
END:STANDARD
BEGIN:DAYLIGHT
TZOFFSETFROM:+0100
TZOFFSETTO:+0200
TZNAME:CEST
DTSTART:20240331T010000
END:DAYLIGHT
BEGIN:STANDARD
TZOFFSETFROM:+0200
TZOFFSETTO:+0100
TZNAME:CET
DTSTART:20241027T010000
END:STANDARD
END:VTIMEZONE
BEGIN:VEVENT
DTSTART;TZID=Europe/Amsterdam:20230801T000000
DTEND;TZID=Europe/Amsterdam:20230806T235959
DTSTAMP:20260424T231344
CREATED:20230112T125112Z
LAST-MODIFIED:20230112T125117Z
UID:11895-1690848000-1691366399@archive.workplacepride.org
SUMMARY:AMSTERDAM PRIDE WEEK
DESCRIPTION:Pride Amsterdam will be held from August 1st till August 6th 2023. Pride Amsterdam is part of Queer & Pride Amsterdam. Queer Amsterdam will provide a program from 22 to 28 July 2023.
URL:https://archive.workplacepride.org/event/amsterdam-pride-week/
END:VEVENT
BEGIN:VEVENT
DTSTART;TZID=Europe/Amsterdam:20230804T160000
DTEND;TZID=Europe/Amsterdam:20230804T200000
DTSTAMP:20260424T231344
CREATED:20230112T125641Z
LAST-MODIFIED:20230710T070629Z
UID:11898-1691164800-1691179200@archive.workplacepride.org
SUMMARY:Stories From the Heart hosted by De Nederlandsche Bank
DESCRIPTION:Stories from the Heart \n\n\n\nWorkplace Pride has partnered with the RVO and the Netherlands Ministry of Foreign Affairs to organise the “Stories from the Heart” gathering. This unique event brings together LGBTIQ+ activists from various regions of the world participating in the RVO’s “Building Bridges” program and Workplace Pride members. The activists will share their on-the-ground experiences with our members\, many of whom have colleagues working in the same countries. \n\n\n\nProgram details \n\n\n\nDate: Friday\, August 4th\, 2023 \n\n\n\nLocation: De Nederlandsche Bank\, Spaklerweg 4\, 1096 BA\, Amsterdam \n\n\n\nTimeline: \n\n\n\nDoors Open: 16:00 \n\n\n\nProgram: 16:30 – 18:00 \n\n\n\nReception: 18:00 – 20:00 \n\n\n\nDon’t miss this exceptional opportunity! \n\n\n\nWe can’t wait to have you join us for these incredible Pride events. Secure your place now and let’s make unforgettable memories together!
URL:https://archive.workplacepride.org/event/stories-from-the-heart/
LOCATION:De Nederlandsche Bank\, Spaklerweg 4\, Amsterdam\, 1096 BA\, Netherlands
END:VEVENT
BEGIN:VEVENT
DTSTART;TZID=Europe/Amsterdam:20230815T000000
DTEND;TZID=Europe/Amsterdam:20230815T235959
DTSTAMP:20260424T231344
CREATED:20230105T121131Z
LAST-MODIFIED:20230105T121136Z
UID:11850-1692057600-1692143999@archive.workplacepride.org
SUMMARY:Member Exchange Meeting #4
DESCRIPTION:Invite only
URL:https://archive.workplacepride.org/event/member-exchange-meeting-4/
CATEGORIES:2023 Events,Member Exchange Meetings
END:VEVENT
BEGIN:VEVENT
DTSTART;TZID=Europe/Amsterdam:20230830T140000
DTEND;TZID=Europe/Amsterdam:20230830T180000
DTSTAMP:20260424T231344
CREATED:20230810T083308Z
LAST-MODIFIED:20230816T074449Z
UID:12867-1693404000-1693418400@archive.workplacepride.org
SUMMARY:Women@Workplace Pride and Academia@Workplace Pride invite you to: “The Power of Women in the Age of super-diversity”
DESCRIPTION:August 30th\, 2023\, Leiden  \n\n\n\n\n\n\n\n\nREGISTER HERE\n\n\n\n\nDetailsProgram\n\nWomen & Academia @WorkplacePride and the strategic alliance of the LDE Universities\, the LUMC\, and Erasmus MC are happy to present an event that will explore the difference between genders in the workplace and how this affects productivity\, innovation\, sense of belonging and psychological safety among cis-women\, lesbian\, bisexual\, trans-\, and queer (LBTQ+) people. \n\n\n\nExploration of the differences between genders  \n\n\n\nThe Women and Academia Workplace Pride communities\, explore the differences between genders: e.g.\, ideas brought forward by women are much more easily dismissed than ideas from their male counterparts. This doesn’t contribute to a sense of belonging and psychological safety\, affecting cis-women and predominantly lesbian\, bisexual\, transgender\, and queer (LBTQ+) people. In turn\, this will lead to reduced productivity and innovation. The Women@Workplace Pride Community would like to take this subject with you to the next level in this event since this topic was already put on the agenda at the Workplace Pride’s international conference in Utrecht last May. Furthermore\, this event is well timed as it coincides with the first Leiden Pride. \n\n\n\nOur keynote speaker is Prof. Annelien Bredenoord\, rector magnificus of Erasmus University Rotterdam\, who will cover the development of policies\, procedures and practices that promote an inclusive environment\, not only for the LGBTIQ+ community but also more broadly in society. She will discuss Erasmus University Rotterdam’s approach to diversity and inclusion in the diverse city of Rotterdam\, emphasising intersectionality. She will cover best practices\, like the IDEA Center (Inclusion\, Diversity\, Equity & Access)\, and share her personal story.    \n\n\n\nDate:            Wednesday 30th of AugustTime:           14:00 – 18:00 hoursLocation:     Leids Universitair Medisch Centrum(LUMC)\, Albinusdreef 2\, 2333 ZA Leiden\, at                     lecture hall 6 (Buruma hall)Audience:    All Workplace Pride members & anyone interested in Inclusion & LGBTQI+ topics \n\n\n\nRegistrationThe event is in-person and will be partially streamed (see programme) and recorded for those not able to attend.  Please register using the Registration form  \n\n\n\nOrganisers \n\n\n\nThis event is initiated by Women@Workplace Pride and organised with Academia@WorkplacePride with the strategic alliance of the LDE Universities\, the LUMC\, and Erasmus MC. \n\n\n\nAccessibility \n\n\n\nWe want the event to be accessible to everyone. We hope that viewing a live stream contributes to this. Please note that the event location is wheelchair accessible. We will make sure to ask the speakers to articulate clearly. We very much welcome your suggestions for how we can be more inclusive. \n\n\n\nLooking forward to seeing you there (or online)! \n\n\n\n\n\n\n\n\n\n\n\n \n\n\n\n \n\n\n\n \n\n\n\n\n\n14:00 – 14:30  Welcoming at the LUMC with coffee and tea14:30 – 14:40  The journey of Women@Workplace Pride by the lead of the Women@WP                           Angelique Meul (she/her) – streamed \n\n\n\n14:40 – 15:45  Break-out sessions\, and follow up15:45 – 16:00  Break16:00 – 16:45  Lecture “Inclusive academia in the age of super diversity” by Prof. dr.                                     Annelien Bredenoord. Followed by an interactive conversation led by Prof.                            dr. Annelien Bredenoord. Followed by an interactive conversation led by                             Prof. dr. Martine de Vries – both streamed16:45 – 17:00   Launch of LDE Pride                            The Leiden University\, TU Delft\, and Erasmus University Rotterdam work                           together in the strategic alliance of the LDE Universities. The Pride networks                                     of these universities\, together with the LUMC and Erasmus MC\, now joined                            forces as the LDE Pride Network — streamed \n\n\n\n17:00 – 18:00 Drinks & Bites
URL:https://archive.workplacepride.org/event/womenworkplace-pride-and-academiaworkplace-pride-invite-you-to-the-power-of-women-in-the-age-of-super-diversity/
CATEGORIES:2023 Events,Academia@workplacepride.org,Hybrid Event,women@workplacepride
END:VEVENT
END:VCALENDAR