BEGIN:VCALENDAR
VERSION:2.0
PRODID:-//Workplace Pride - ECPv6.15.20//NONSGML v1.0//EN
CALSCALE:GREGORIAN
METHOD:PUBLISH
X-WR-CALNAME:Workplace Pride
X-ORIGINAL-URL:https://archive.workplacepride.org
X-WR-CALDESC:Events for Workplace Pride
REFRESH-INTERVAL;VALUE=DURATION:PT1H
X-Robots-Tag:noindex
X-PUBLISHED-TTL:PT1H
BEGIN:VTIMEZONE
TZID:Europe/Amsterdam
BEGIN:DAYLIGHT
TZOFFSETFROM:+0100
TZOFFSETTO:+0200
TZNAME:CEST
DTSTART:20230326T010000
END:DAYLIGHT
BEGIN:STANDARD
TZOFFSETFROM:+0200
TZOFFSETTO:+0100
TZNAME:CET
DTSTART:20231029T010000
END:STANDARD
BEGIN:DAYLIGHT
TZOFFSETFROM:+0100
TZOFFSETTO:+0200
TZNAME:CEST
DTSTART:20240331T010000
END:DAYLIGHT
BEGIN:STANDARD
TZOFFSETFROM:+0200
TZOFFSETTO:+0100
TZNAME:CET
DTSTART:20241027T010000
END:STANDARD
BEGIN:DAYLIGHT
TZOFFSETFROM:+0100
TZOFFSETTO:+0200
TZNAME:CEST
DTSTART:20250330T010000
END:DAYLIGHT
BEGIN:STANDARD
TZOFFSETFROM:+0200
TZOFFSETTO:+0100
TZNAME:CET
DTSTART:20251026T010000
END:STANDARD
END:VTIMEZONE
BEGIN:VEVENT
DTSTART;TZID=Europe/Amsterdam:20240201T000000
DTEND;TZID=Europe/Amsterdam:20240201T235959
DTSTAMP:20260424T154224
CREATED:20240130T145755Z
LAST-MODIFIED:20240130T145844Z
UID:14474-1706745600-1706831999@archive.workplacepride.org
SUMMARY:2024 Global Benchmark Launch
DESCRIPTION:The Workplace Pride Global Benchmark is an online tool designed to measure the LGBTIQ+ policies and practices for internationally active employers. Created in 2014\, The Global Benchmark addresses the needs of organisations who are faced with implementing global D&I and LGBTIQ+ policies in countries where obstacles such as legal frameworks or cultural norms make it hard to do so. \n\n\n\nRegister for the 2024 Global Benchmark \n\n\n\nRegister Today \n\n\n\nFor any further questions please access or Global Benchmark FAQ page here.
URL:https://archive.workplacepride.org/event/2024-global-benchmark-launch/
CATEGORIES:Global Benchmark
ATTACH;FMTTYPE=image/jpeg:https://archive.workplacepride.org/wp-content/uploads/2024/01/20240122-wp-gb-scaled-e1705917450929.jpg
END:VEVENT
BEGIN:VEVENT
DTSTART;TZID=Europe/Amsterdam:20240215T140000
DTEND;TZID=Europe/Amsterdam:20240215T170000
DTSTAMP:20260424T154224
CREATED:20240130T151454Z
LAST-MODIFIED:20240130T153440Z
UID:14479-1708005600-1708016400@archive.workplacepride.org
SUMMARY:Unlock Your Future – Workplace Pride x McKinsey & Company event
DESCRIPTION:Join Workplace Pride and McKinsey Amsterdam for an exciting event designed for students interested in kicking off their career orientation and connecting with the LGBTQ+ community. \n\n\n\n\n\nDate:          February 15th\, 2PM-5PM \n\n\n\nLocation:   Amstel 344\, 1017AS Amsterdam \n\n\n\n\nRegister Today\n\n\n\n\nEvent Description \n\n\n\nThis event is open to all students who self-identify as members of the LGBTQ+ community\, including but not limited to lesbian\, gay\, bisexual\, transgender\, queer\, gender-non-conforming or non-binary\, or intersex. \n\n\n\nRegistration can be completed before Thursday\, February 8th\, using this link. \n\n\n\n*By applying\, you acknowledge and consent to the processing of your personal data\, including sensitive information\, in accordance with McKinsey Recruiting Privacy Notice. \n\n\n\nWhat to expect \n\n\n\nThe event gives you the opportunity to engage in a transformative strengths training session tailored to help you identify and harness your individual strengths. This knowledge will empower you to showcase your strengths in your future career. At the same time you get the opportunity to learn from Workplace Pride how to identify and find employers committed to creating an inclusive workplace. Learn the importance of diversity\, equity\, and inclusion in today’s professional world and gain the tools to navigate this evolving landscape. \n\n\n\nFollowing the program\, there will be ample opportunities for you to network with Workplace Pride and McKinsey consultants who are part of the LGBTQ+ community\, as well as other event participants. This networking session will allow you to make meaningful connections\, expand your professional network\, and potentially explore future career opportunities. \n\n\n\nUnlock your Future by securing your spot here
URL:https://archive.workplacepride.org/event/unlock-your-future-workplace-pride-x-mckinsey-company-event/
CATEGORIES:2024 Events
ATTACH;FMTTYPE=image/png:https://archive.workplacepride.org/wp-content/uploads/2024/01/WP-mckinsey-MC-HeaderBanner.png
END:VEVENT
BEGIN:VEVENT
DTSTART;TZID=Europe/Amsterdam:20240219T080000
DTEND;TZID=Europe/Amsterdam:20240223T220000
DTSTAMP:20260424T154224
CREATED:20240220T081335Z
LAST-MODIFIED:20240220T095935Z
UID:14685-1708329600-1708725600@archive.workplacepride.org
SUMMARY:Copenhagen Winter Pride 2024
DESCRIPTION:Light up the winter darkness: You are invited to Copenhagen Winter Pride\n\n\n\nCome together – be together \n\n\n\nFor the tenth time\, we are proud to present Copenhagen Winter Pride at Huset-KBH. Just like this summer\, the theme is Come Together; an invitation to closeness and togetherness in the LGBTI+ community. This fits perfectly with the framework of Winter Pride\, which is intended as an event to bring the Copenhagen rainbow community into the warmth of a cold time to learn more about each other’s lived experiences. \n\n\n\nCopenhagen Pride volunteers have put together a programme of entertainment\, debates and social events that offers something for all tastes and energy levels. As usual\, the week is rounded off with a party\, the Frozen Fantasy Show in Pressen. \n\n\n\nWinter Pride’s debate programme covers a range of topics that share the common element of inviting the audience to learn more about other LGBTI+ people’s experiences that they may not have thought about before.  \n\n\n\n\nDownload the program\n\n\n\n\nAs always\, the programme has a strong political element\, and we will be joined by Sabaah\, who will talk about the rise in so-called ‘anti-gender’ movements\, and LGBT Asylum\, who will talk about the conditions for LGBTI+ people seeking asylum in Denmark. There will also be room for tenderness\, including an event focusing on stories from long-term relationships and a debate on how becoming a parent as a queer person affects your sexuality. \n\n\n\nCopenhagen Pride volunteers have put together a programme of entertainment\, debates and social events that offers something for all tastes and energy levels. As usual\, the week is rounded off with a party\, the Frozen Fantasy Show in Pressen. \n\n\n\nParty on – also without alcohol \n\n\n\nWinter Pride week finishes with a party to remember\, the Frozen Fantasy Show at Pressen on 24 February. Just like last year\, we’re also throwing a Winter Pride Celebration on Friday\, where you can party the night away in an alcohol-free setting when DJ Sofie Jacobi plays to a red-hot dance floor. Winter Pride Celebration is a free party where no alcohol is served and intoxicated behaviour is not allowed. \n\n\n\nPride Night Live is back! \n\n\n\nOnce more\, the Culture Group at Copenhagen Pride invites you to Pride Night Live. This time it will be model\, actress and winner of ‘LGBT+ Person of the Year’ at the Danish Rainbow Awards 2023\, May Lifschitz\, who will present the many exciting guests who come to the studio. Among other things\, you can look forward to theatre\, musical performances and interesting interviews with various actors who are all working to develop their own areas within the LGBTI+ community\, be it the nightlife\, the art and culture scene or basic conditions and rights for members of the community. As always\, you can watch whether you’re in the studio or at home – we’ll be livestreaming the entire show. \n\n\n\nAll in all\, it’s going to be a fantastic week under the rainbow\, and we look forward to welcoming the entire LGBTI+ community and its allies to Winter Pride Week 2024!
URL:https://archive.workplacepride.org/event/copenhagen-winter-pride-2024/
END:VEVENT
BEGIN:VEVENT
DTSTART;TZID=Europe/Amsterdam:20240222T173000
DTEND;TZID=Europe/Amsterdam:20240222T210000
DTSTAMP:20260424T154224
CREATED:20240220T075909Z
LAST-MODIFIED:20240220T080459Z
UID:14677-1708623000-1708635600@archive.workplacepride.org
SUMMARY:LGBTIQ+ History Month UK
DESCRIPTION:Then and Now – A Panel Discussion \n\n\n\nBritish Airways\, Workplace Pride\, Selfridges\, Macquarie Group and The Others & Me are leading the way  \n\n\n\nin creating LGBTQ+ inclusive workplaces. Hear from this distinguished panel in London on 22 February as we celebrate LGBTQ+ History Month UK. \n\n\n\nModerated by #TeamSPB‘s Carlton Daniel\, this panel will explore the challenges and opportunities for LGBTQ+ people in the workplace\, focussing on the advancements over the years\, sharing their best practices and answering your questions. \n\n\n\n▪ Charlotte B. | Employment Lawyer | British Airways PLC▪ Robert Corvers | Relationship Manager | Workplace Pride▪ Adam Law | Masterplan PMO Project Manager and BeYourself LGBTQ+ Community Lead | Selfridges▪ Lori Meakin | Founder and CEO | The Others & Me▪ Harry Walton | Client Solutions Manager\, Futures Clearing & Co-Chair | Macquarie Pride EM \n\n\n\n#InclusiveLaw | #LGBTHistoryMonth | #WorkplaceInclusion
URL:https://archive.workplacepride.org/event/lgbtiq-history-month-uk/
LOCATION:Squire Patton Boggs 60 London Wall\, London\, EC2M 5TQ\, Squire Patton Boggs 60 London Wall\, London\, EC2M 5TQ
END:VEVENT
BEGIN:VEVENT
DTSTART;TZID=Europe/Amsterdam:20240228T150000
DTEND;TZID=Europe/Amsterdam:20240228T163000
DTSTAMP:20260424T154224
CREATED:20240130T145120Z
LAST-MODIFIED:20240508T164557Z
UID:14468-1709132400-1709137800@archive.workplacepride.org
SUMMARY:2024 Global Leaders Council Q1
DESCRIPTION:You are invited to the 2024 Q1 meeting of the Global Leaders Council (GLC) \n\n\n\nThe GLC is an online quarterly forum in which Workplace Pride members can have a high-level discussion on strategic topics important to LGBTIQ+ inclusion in the workplace.  GLC participants should be decision-makers or major influencers within their own organisations.  \n\n\n\nAn agenda will be available closer to the meeting. 
URL:https://archive.workplacepride.org/event/2024-global-leaders-council-q1/
CATEGORIES:Global Leaders Council
ATTACH;FMTTYPE=image/jpeg:https://archive.workplacepride.org/wp-content/uploads/2024/01/20240228-GLCQ1-Banner.jpg
END:VEVENT
END:VCALENDAR