BEGIN:VCALENDAR
VERSION:2.0
PRODID:-//Workplace Pride - ECPv6.15.20//NONSGML v1.0//EN
CALSCALE:GREGORIAN
METHOD:PUBLISH
X-ORIGINAL-URL:https://archive.workplacepride.org
X-WR-CALDESC:Events for Workplace Pride
REFRESH-INTERVAL;VALUE=DURATION:PT1H
X-Robots-Tag:noindex
X-PUBLISHED-TTL:PT1H
BEGIN:VTIMEZONE
TZID:Europe/Amsterdam
BEGIN:DAYLIGHT
TZOFFSETFROM:+0100
TZOFFSETTO:+0200
TZNAME:CEST
DTSTART:20230326T010000
END:DAYLIGHT
BEGIN:STANDARD
TZOFFSETFROM:+0200
TZOFFSETTO:+0100
TZNAME:CET
DTSTART:20231029T010000
END:STANDARD
BEGIN:DAYLIGHT
TZOFFSETFROM:+0100
TZOFFSETTO:+0200
TZNAME:CEST
DTSTART:20240331T010000
END:DAYLIGHT
BEGIN:STANDARD
TZOFFSETFROM:+0200
TZOFFSETTO:+0100
TZNAME:CET
DTSTART:20241027T010000
END:STANDARD
BEGIN:DAYLIGHT
TZOFFSETFROM:+0100
TZOFFSETTO:+0200
TZNAME:CEST
DTSTART:20250330T010000
END:DAYLIGHT
BEGIN:STANDARD
TZOFFSETFROM:+0200
TZOFFSETTO:+0100
TZNAME:CET
DTSTART:20251026T010000
END:STANDARD
END:VTIMEZONE
BEGIN:VEVENT
DTSTART;TZID=Europe/Amsterdam:20240802T140000
DTEND;TZID=Europe/Amsterdam:20240802T180000
DTSTAMP:20260422T154516
CREATED:20240625T134516Z
LAST-MODIFIED:20240715T130125Z
UID:16429-1722607200-1722621600@archive.workplacepride.org
SUMMARY:Stories From The Heart
DESCRIPTION:The event takes place in the Auditorium of the Rijksmuseum \n\n\n\n\n\n\n\nWorkplace Pride\, in collaboration with the RVO and the Netherlands Ministry of Foreign Affairs\, is excited to present “Stories from the Heart” at the Rijksmuseum. This unique event brings together LGBTIQ+ activists from around the world participating in the RVO’s “Building Bridges” program\, alongside Workplace Pride members.  \n\n\n\nThese activists will share their on-the-ground experiences with our members\, many of whom have colleagues working in the same regions. \n\n\n\nEvent Timeline: \n\n\n\nDate: Friday August 2\, 2024 \n\n\n\nLocation: Rijksmuseum\, Museumstraat 1\, 1071 XX Amsterdam \n\n\n\nGeneral Admission to the “Point of View”  Exhibit: 14:00 – 15:00 \n\n\n\nAuditorium Doors Open: 15:00 \n\n\n\nStories from the Heart Program: 15:30 – 17:00 \n\n\n\nReception: 17:00 – 18:00 \n\n\n\nDo not miss this exceptional opportunity! We look forward to having you join us for this incredible Pride event. Secure your place now and let us create unforgettable memories together! This is a member-only event\, if you would like to attend please reach out to your relationship manager. \n\n\n\nClosing Date for registration July 25th 2024
URL:https://archive.workplacepride.org/event/stories-from-the-heart-2024/
LOCATION:1 Museumstraat\, 1071 XX Amsterdam\, 1 Museumstraat\, Amsterdam\, North Holland\, 1071 XX\, Netherlands
CATEGORIES:2024 Events
ATTACH;FMTTYPE=image/jpeg:https://archive.workplacepride.org/wp-content/uploads/2024/06/WP-SFTH-EventbriteTemplate-2024.jpg
END:VEVENT
END:VCALENDAR