BEGIN:VCALENDAR
VERSION:2.0
PRODID:-//Workplace Pride - ECPv6.15.20//NONSGML v1.0//EN
CALSCALE:GREGORIAN
METHOD:PUBLISH
X-WR-CALNAME:Workplace Pride
X-ORIGINAL-URL:https://archive.workplacepride.org
X-WR-CALDESC:Events for Workplace Pride
REFRESH-INTERVAL;VALUE=DURATION:PT1H
X-Robots-Tag:noindex
X-PUBLISHED-TTL:PT1H
BEGIN:VTIMEZONE
TZID:Europe/Amsterdam
BEGIN:DAYLIGHT
TZOFFSETFROM:+0100
TZOFFSETTO:+0200
TZNAME:CEST
DTSTART:20230326T010000
END:DAYLIGHT
BEGIN:STANDARD
TZOFFSETFROM:+0200
TZOFFSETTO:+0100
TZNAME:CET
DTSTART:20231029T010000
END:STANDARD
BEGIN:DAYLIGHT
TZOFFSETFROM:+0100
TZOFFSETTO:+0200
TZNAME:CEST
DTSTART:20240331T010000
END:DAYLIGHT
BEGIN:STANDARD
TZOFFSETFROM:+0200
TZOFFSETTO:+0100
TZNAME:CET
DTSTART:20241027T010000
END:STANDARD
BEGIN:DAYLIGHT
TZOFFSETFROM:+0100
TZOFFSETTO:+0200
TZNAME:CEST
DTSTART:20250330T010000
END:DAYLIGHT
BEGIN:STANDARD
TZOFFSETFROM:+0200
TZOFFSETTO:+0100
TZNAME:CET
DTSTART:20251026T010000
END:STANDARD
BEGIN:DAYLIGHT
TZOFFSETFROM:+0100
TZOFFSETTO:+0200
TZNAME:CEST
DTSTART:20260329T010000
END:DAYLIGHT
BEGIN:STANDARD
TZOFFSETFROM:+0200
TZOFFSETTO:+0100
TZNAME:CET
DTSTART:20261025T010000
END:STANDARD
END:VTIMEZONE
BEGIN:VEVENT
DTSTART;TZID=Europe/Amsterdam:20240919T080000
DTEND;TZID=Europe/Amsterdam:20250531T170000
DTSTAMP:20260422T052152
CREATED:20240919T163703Z
LAST-MODIFIED:20241003T070953Z
UID:17109-1726732800-1748710800@archive.workplacepride.org
SUMMARY:Young@Workplace Pride Mentorship Program
DESCRIPTION:We are excited to invite you to take part in the Young@Workplace Pride Mentorship Program—a unique initiative designed to support and empower young professionals as they navigate their careers. Our goal is to make LGBTIQ+ mentors more accessible\, fostering an environment of mutual learning and growth. \n\n\n\nWhy join?Our mentorship program is open to individuals of all age groups\, combining the insights of experienced professionals with the fresh perspectives of young talent. Whether you are looking to offer guidance as a mentor or seeking support as a mentee\, this program provides the tools and community to help both sides grow. In addition to one-on-one mentorship\, we’ll be hosting training sessions and social events to further enrich the experience. \n\n\n\nWe are looking for:\n\n\n\n\nMentors: LGBTIQ+ professionals with life and work experience\, who are willing to share their insights\, support\, and guidance with others.\n\n\n\nMentees: Individuals with personal or professional goals who believe that mentorship can help them achieve growth and success.\n\n\n\n\nCommitment: We ask for just 2 hours per month of your time over the course of 6 months\, starting from the end of October 2024. \n\n\n\n\nRegister Today\n\n\n\n\nKey Details:\n\n\n\n\nApplication Deadline: 13 October 2024\n\n\n\nProgram Kickoff Event: 31 October 2024 (late afternoon\, CEST)\n\n\n\nFormat: Hybrid (In-person and online)\n\n\n\n\nAt the kickoff event\, you will: \n\n\n\n\nBe introduced to the program\n\n\n\nGet to know your fellow participants\n\n\n\nReceive tools and inspiration to build a strong mentor/mentee relationship\n\n\n\n\nIf you identify as LGBTIQ+ and are eager to commit to this program\, sign up now via this form. Please note that spaces are limited\, and submitting an application does not guarantee a spot. \n\n\n\nLet’s come together to make a positive change in each other’s lives! \n\n\n\nWe look forward to seeing you there. \n\n\n\nWarm regards\,The Young@Workplace Pride Team
URL:https://archive.workplacepride.org/event/youngworkplace-pride-mentorship-program/
CATEGORIES:2024 Events,Mentorship Program,young@workplacepride.org
ATTACH;FMTTYPE=image/jpeg:https://archive.workplacepride.org/wp-content/uploads/2024/09/WP-MentorYoung2425-event-Article-SM.jpg
END:VEVENT
BEGIN:VEVENT
DTSTART;TZID=Europe/Amsterdam:20241201T000000
DTEND;TZID=Europe/Amsterdam:20241201T235959
DTSTAMP:20260422T052152
CREATED:20211201T112020Z
LAST-MODIFIED:20240508T165450Z
UID:10426-1733011200-1733097599@archive.workplacepride.org
SUMMARY:WORLD AIDS DAY
DESCRIPTION:Every year\, December 1 is observed as World AIDS Day across the globe to spread awareness about the disease and remember all those who lost their lives to it. It was first observed in 1988.
URL:https://archive.workplacepride.org/event/world-aids-day/
END:VEVENT
BEGIN:VEVENT
DTSTART;TZID=Europe/Amsterdam:20241203T123000
DTEND;TZID=Europe/Amsterdam:20241203T133000
DTSTAMP:20260422T052152
CREATED:20241112T155122Z
LAST-MODIFIED:20241112T155125Z
UID:17344-1733229000-1733232600@archive.workplacepride.org
SUMMARY:Member Exchange #6
DESCRIPTION:At Workplace Pride we hold regular member exchanges. These member exchanges are interactions\, collaborations\, and support networks established among members of Workplace Pride who share a commitment to promoting LGBTIQ+ inclusion in the workplace. These exchanges involve the sharing of knowledge\, experiences\, best practices\, and resources related to fostering diversity\, equity\, and inclusion (DEI) in work environments. \n\n\n\n \n\n\n\nThese sessions are designed to be informal and to bring members together to share experience\, to learn from one another\, and to build connections for future collaboration. Feel free to invite other employees from your organisation to listen in.
URL:https://archive.workplacepride.org/event/member-exchange-6/
END:VEVENT
BEGIN:VEVENT
DTSTART;TZID=Europe/Amsterdam:20241213T123000
DTEND;TZID=Europe/Amsterdam:20241213T150000
DTSTAMP:20260422T052152
CREATED:20241107T185911Z
LAST-MODIFIED:20250113T153317Z
UID:17320-1734093000-1734102000@archive.workplacepride.org
SUMMARY:Queericulum Vitae – Empower Your Career on Purple Friday!
DESCRIPTION:Queericulum Vitae – Empower Your Career on Purple Friday! \n\n\n\nWe would like to invite you to Queericulum Vitae—an empowering session dedicated to owning your story and confidently entering the workforce. Whether you are a student exploring career paths or just starting out in your profession\, Academia@WorkplacePride\, Young@WorkplacePride\, and Student Pride are here to help prepare for and navigate the job market. \n\n\n\nThis event will dive into important questions like: Should you highlight your role in a queer student association on your CV or “straighten up” your resume? How much weight should a company’s LGBTIQ+ policies carry when choosing where to apply? \n\n\n\nJoin us for an afternoon of practical training to prepare you for the job market\, an inspiring panel discussion\, and a chance to capture a fresh LinkedIn profile photo. Let us make your Queericulum Vitae stand out and get you career-ready with pride! \n\n\n\nProgram: \n\n\n\n12:30-13:30 – Arrival\, lunch & LinkedIn photoshoot \n\n\n\n13:30-14:15 – Job Market Preparation Workshop: This workshop is tailored for LGBTIQ+ students and young professionals to gain essential skills for navigating the job market. Whether you’re just starting your career journey or looking to make a change\, this workshop will provide valuable insights and practical tools to help you stand out. \n\n\n\n14:15-15:00 – Panel Discussion on navigating the beginning of your career as part of the LGBTIQ+ community.  (this will be streamed) \n\n\n\nWe strongly encourage you to attend the session in person to fully benefit from the LinkedIn photo opportunities\, participate actively in the workshop\, and engage in networking.  \n\n\n\nPlease note that only the panel discussion\, scheduled from 14:15-15:00 will be available via online streaming. \n\n\n\nLocation: Workplace Pride office: Herengracht 575\, 1017 CD Amsterdam (We are also offering a hybrid option for people who can’t attend physically). 
URL:https://archive.workplacepride.org/event/queericulum-vitae-empower-your-career-on-purple-friday/
ATTACH;FMTTYPE=image/jpeg:https://archive.workplacepride.org/wp-content/uploads/2024/11/WP-PurpleEventbrite-2024-1.jpg
END:VEVENT
END:VCALENDAR