BEGIN:VCALENDAR
VERSION:2.0
PRODID:-//Workplace Pride - ECPv6.15.20//NONSGML v1.0//EN
CALSCALE:GREGORIAN
METHOD:PUBLISH
X-ORIGINAL-URL:https://archive.workplacepride.org
X-WR-CALDESC:Events for Workplace Pride
REFRESH-INTERVAL;VALUE=DURATION:PT1H
X-Robots-Tag:noindex
X-PUBLISHED-TTL:PT1H
BEGIN:VTIMEZONE
TZID:Europe/Amsterdam
BEGIN:DAYLIGHT
TZOFFSETFROM:+0100
TZOFFSETTO:+0200
TZNAME:CEST
DTSTART:20240331T010000
END:DAYLIGHT
BEGIN:STANDARD
TZOFFSETFROM:+0200
TZOFFSETTO:+0100
TZNAME:CET
DTSTART:20241027T010000
END:STANDARD
BEGIN:DAYLIGHT
TZOFFSETFROM:+0100
TZOFFSETTO:+0200
TZNAME:CEST
DTSTART:20250330T010000
END:DAYLIGHT
BEGIN:STANDARD
TZOFFSETFROM:+0200
TZOFFSETTO:+0100
TZNAME:CET
DTSTART:20251026T010000
END:STANDARD
BEGIN:DAYLIGHT
TZOFFSETFROM:+0100
TZOFFSETTO:+0200
TZNAME:CEST
DTSTART:20260329T010000
END:DAYLIGHT
BEGIN:STANDARD
TZOFFSETFROM:+0200
TZOFFSETTO:+0100
TZNAME:CET
DTSTART:20261025T010000
END:STANDARD
END:VTIMEZONE
BEGIN:VEVENT
DTSTART;TZID=Europe/Amsterdam:20251204T123000
DTEND;TZID=Europe/Amsterdam:20251204T133000
DTSTAMP:20260421T070827
CREATED:20241218T135734Z
LAST-MODIFIED:20251118T142758Z
UID:17556-1764851400-1764855000@archive.workplacepride.org
SUMMARY:Member Exchange MX5 2025
DESCRIPTION:At Workplace Pride we hold regular member exchanges. These member exchanges are interactions\, collaborations\, and support networks established among members of Workplace Pride who share a commitment to promoting LGBTIQ+ inclusion in the workplace. These exchanges involve the sharing of knowledge\, experiences\, best practices\, and resources related to fostering diversity\, equity\, and inclusion (DEI) in work environments. \n\n\n\nHope to see you there\, \n\n\n\nChristine\, Yuli\, Omar\, Robert and BrianRelationship Managers
URL:https://archive.workplacepride.org/event/member-exchange-mx6-2025/
ATTACH;FMTTYPE=image/jpeg:https://archive.workplacepride.org/wp-content/uploads/2024/05/20240606-MemberExchange-Banner.jpg
END:VEVENT
END:VCALENDAR