BEGIN:VCALENDAR
VERSION:2.0
PRODID:-//Workplace Pride - ECPv6.15.20//NONSGML v1.0//EN
CALSCALE:GREGORIAN
METHOD:PUBLISH
X-WR-CALNAME:Workplace Pride
X-ORIGINAL-URL:https://archive.workplacepride.org
X-WR-CALDESC:Events for Workplace Pride
REFRESH-INTERVAL;VALUE=DURATION:PT1H
X-Robots-Tag:noindex
X-PUBLISHED-TTL:PT1H
BEGIN:VTIMEZONE
TZID:Europe/Amsterdam
BEGIN:DAYLIGHT
TZOFFSETFROM:+0100
TZOFFSETTO:+0200
TZNAME:CEST
DTSTART:20250330T010000
END:DAYLIGHT
BEGIN:STANDARD
TZOFFSETFROM:+0200
TZOFFSETTO:+0100
TZNAME:CET
DTSTART:20251026T010000
END:STANDARD
BEGIN:DAYLIGHT
TZOFFSETFROM:+0100
TZOFFSETTO:+0200
TZNAME:CEST
DTSTART:20260329T010000
END:DAYLIGHT
BEGIN:STANDARD
TZOFFSETFROM:+0200
TZOFFSETTO:+0100
TZNAME:CET
DTSTART:20261025T010000
END:STANDARD
BEGIN:DAYLIGHT
TZOFFSETFROM:+0100
TZOFFSETTO:+0200
TZNAME:CEST
DTSTART:20270328T010000
END:DAYLIGHT
BEGIN:STANDARD
TZOFFSETFROM:+0200
TZOFFSETTO:+0100
TZNAME:CET
DTSTART:20271031T010000
END:STANDARD
END:VTIMEZONE
BEGIN:VEVENT
DTSTART;TZID=Europe/Amsterdam:20260120T180000
DTEND;TZID=Europe/Amsterdam:20260120T210000
DTSTAMP:20260421T053727
CREATED:20251203T151927Z
LAST-MODIFIED:20260116T163615Z
UID:19095-1768932000-1768942800@archive.workplacepride.org
SUMMARY:2026 Workplace Pride Annual Members’ Meeting & New Year’s Reception
DESCRIPTION:Member Only Event \n\n\n\n\n\n\n\nProgramRegistrationLocationStreaming\n\nOn behalf of the Foundation Board\, we would like you to Save The Date for the Workplace Pride Annual Members’ Meeting and New Year’s Reception\, taking place at the ING office in Amsterdam. The meeting will review the Foundation’s accomplishments in 2025 and outline plans for 2026. \n\n\n\nThis event is generously hosted by Leader Member ING. \n\n\n\nDetails of the meeting are as follows: \n\n\n\nDate:Tuesday\, 20 January 2026 \n\n\n\nPlease register whether you are attending online or in person. \n\n\n\n\n\nRegistration is now closed\, but you can watch the meeting live on Tuesday evening. Please click the streaming tab for more information. \n\n\n\n\n\nVenue Address: ING Headquarters – Cedar Building\, Bijlmerdreef 106\, 1102 CT Amsterdam \n\n\n\n\n\n\n\nParking at ING Building:Limited parking is available only through pre-registration and is allocated on a first-come\, first-served basis. Please email mauricio@workplacepride.org with your name and vehicle registration before 2pm Monday 19th. \n\n\n\nNearby Parking Facilities:Additional parking is available at P21\, P22\, and P23. We recommend booking in advance via the Q-Park website. \n\n\n\nPublic Transport:The nearest station is Bijlmer-Arena\, served by train\, metro\, and bus. The office is approximately a 5-minute walk from the station. \n\n\n\nBicycle:The ING Cedar office offers extensive bike parking\, including a large\, dedicated underground facility. \n\n\n\n\n\n\n\n\n\nThe Annual Members’ Meeting will be streamed from 18:30 – 19:30. Entry to the online event is for members only. A recording of the meeting will be made available in the member area after the event has taken place. \n\n\n\nJoin the meeting via Microsoft Teams: \n\n\n\n2026 Workplace Pride Annual Members’ Meeting | Meeting-Join | Microsoft Teams \n\n\n\nYou do not need a Microsoft account to join.Please join 5–10 minutes early.
URL:https://archive.workplacepride.org/event/2026-workplace-pride-annual-members-meeting-new-years-reception/
ATTACH;FMTTYPE=image/jpeg:https://archive.workplacepride.org/wp-content/uploads/2025/12/WP-Event-AMM26-Event-Visual.jpg
END:VEVENT
END:VCALENDAR