BEGIN:VCALENDAR
VERSION:2.0
PRODID:-//Workplace Pride - ECPv6.15.20//NONSGML v1.0//EN
CALSCALE:GREGORIAN
METHOD:PUBLISH
X-WR-CALNAME:Workplace Pride
X-ORIGINAL-URL:https://archive.workplacepride.org
X-WR-CALDESC:Events for Workplace Pride
REFRESH-INTERVAL;VALUE=DURATION:PT1H
X-Robots-Tag:noindex
X-PUBLISHED-TTL:PT1H
BEGIN:VTIMEZONE
TZID:Europe/Amsterdam
BEGIN:DAYLIGHT
TZOFFSETFROM:+0100
TZOFFSETTO:+0200
TZNAME:CEST
DTSTART:20250330T010000
END:DAYLIGHT
BEGIN:STANDARD
TZOFFSETFROM:+0200
TZOFFSETTO:+0100
TZNAME:CET
DTSTART:20251026T010000
END:STANDARD
BEGIN:DAYLIGHT
TZOFFSETFROM:+0100
TZOFFSETTO:+0200
TZNAME:CEST
DTSTART:20260329T010000
END:DAYLIGHT
BEGIN:STANDARD
TZOFFSETFROM:+0200
TZOFFSETTO:+0100
TZNAME:CET
DTSTART:20261025T010000
END:STANDARD
BEGIN:DAYLIGHT
TZOFFSETFROM:+0100
TZOFFSETTO:+0200
TZNAME:CEST
DTSTART:20270328T010000
END:DAYLIGHT
BEGIN:STANDARD
TZOFFSETFROM:+0200
TZOFFSETTO:+0100
TZNAME:CET
DTSTART:20271031T010000
END:STANDARD
END:VTIMEZONE
BEGIN:VEVENT
DTSTART;TZID=Europe/Amsterdam:20260212T043000
DTEND;TZID=Europe/Amsterdam:20260212T173000
DTSTAMP:20260421T041133
CREATED:20260116T142900Z
LAST-MODIFIED:20260205T142900Z
UID:19232-1770870600-1770917400@archive.workplacepride.org
SUMMARY:Member Exchange 1
DESCRIPTION:🔒 Member Only Event \n\n\n\nTitle: How Young and Diverse ERG Members Drive ChangeModerator: Yuli Kim \n\n\n\nPanellists:Kris Meyers (he/him)\, Associate Partner at McKinsey & CompanyMaxim Buise (he/him)\, Release Train Engineer at Aegon \n\n\n\nOverview:Young and diverse ERG members are shaping the future of inclusive workplaces. They bring fresh perspectives\, influence organisational culture\, and drive meaningful change. \n\n\n\nIn this webinar\, you will learn: \n\n\n\n\nHow to attract and engage young and diverse ERG members\n\n\n\nThe impact these members create beyond advocacy\n\n\n\nWays organisations can support ERGs as catalysts for inclusive and sustainable change\n\n\n\n\nDo not miss this opportunity to discover how ERGs can be a powerful driver of transformation in your workplace.
URL:https://archive.workplacepride.org/event/member-exchange-1/
CATEGORIES:Member Exchange Meetings
ATTACH;FMTTYPE=image/jpeg:https://archive.workplacepride.org/wp-content/uploads/2026/01/1920x1080-MemberEX-1-BlueSpeakers.jpg
END:VEVENT
BEGIN:VEVENT
DTSTART;TZID=Europe/Amsterdam:20260227T130000
DTEND;TZID=Europe/Amsterdam:20260227T143000
DTSTAMP:20260421T041133
CREATED:20260218T170007Z
LAST-MODIFIED:20260218T170440Z
UID:19401-1772197200-1772202600@archive.workplacepride.org
SUMMARY:Purple Friday – GLEAM NL Flagship Event
DESCRIPTION:Join us for an inspiring in-person event with international speaker Greg Morley and the GLEAM ERG Netherlands on belonging and the keys to inclusion and connection. \n\n\n\n📍 Location: The Stage\, Microsoft Netherlands (Evert van de Beekstraat 354\, 1118 CZ Schiphol)📅 Date: February 27\, 2026⏰ 13:00 – 14:30 CET \n\n\n\nThis flagship GLEAM event will include: \n\n\n\n\n🎁 Lots of giveaways\, merchandise\, and GLEAM swag\n\n\n\n🍿 Snacks and drinks afterwards\n\n\n\n💜 A warm space to learn\, connect\, and celebrate inclusion\n\n\n\n\nWe kindly ask everyone to wear purple to show your support. \n\n\n\nPurple Friday is celebrated across the Netherlands to demonstrate solidarity with the LGBTQIA+ community and promote a more inclusive society for all. \n\n\n\nWe look forward to seeing you there! 💜 \n\n\n\nKindly note that registration will close on 24 February. \n\n\n\n\nRegister
URL:https://archive.workplacepride.org/event/purple-friday-gleam-nl-flagship-event/
ATTACH;FMTTYPE=image/jpeg:https://archive.workplacepride.org/wp-content/uploads/2026/02/PurpleFriday-Event-Visual.jpg
END:VEVENT
END:VCALENDAR